BEGIN:VCALENDAR
VERSION:2.0
PRODID:-//wp-events-plugin.com//7.2.3.1//EN
TZID:America/Argentina/Buenos_Aires
X-WR-TIMEZONE:America/Argentina/Buenos_Aires
BEGIN:VEVENT
UID:771@unne.edu.ar
DTSTART;TZID=America/Argentina/Buenos_Aires:20250416T200000
DTEND;TZID=America/Argentina/Buenos_Aires:20250416T200000
DTSTAMP:20250409T153621Z
URL:https://www.unne.edu.ar/agenda/eventos/%f0%9d%91%b7rimera-%f0%9d%91%b4
 %f0%9d%91%b0%f0%9d%91%b3%f0%9d%91%b6%f0%9d%91%b5%f0%9d%91%ae%f0%9d%91%a8-%
 f0%9d%92%85%f0%9d%92%86%f0%9d%92%8d-%f0%9d%92%82n%f0%9d%92%90-en-el-ccu/
SUMMARY:𝑷rimera 𝑴𝑰𝑳𝑶𝑵𝑮𝑨 𝒅𝒆𝒍 𝒂ñ𝒐 en 
 el CCU
DESCRIPTION:Con la participación de "Tango Tinto" Cesar Musachi en voz y S
 ilvano Sánchez en bandoneón.\n\n📅 Miércoles 16 de abril.\n📍 Saló
 n azul del #CCU Primer piso de Córdoba 788\n⏰ 20 hs\n\n𝐋𝐚 𝐦
 𝐢𝐥𝐨𝐧𝐠𝐚 𝐞𝐬 𝐚𝐛𝐢𝐞𝐫𝐭𝐚 𝐲 𝐠
 𝐫𝐚𝐭𝐮𝐢𝐭𝐚\n\nNota completa: https://www.unne.edu.ar/ext
 ension/novedad.php?uid=e7637613760c1924aef53a06dde9ece3
ATTACH;FMTTYPE=image/jpeg:https://www.unne.edu.ar/wp-content/uploads/Milon
 ga2025.jpeg
CATEGORIES:Sec. Gral. de Extensión Universitaria
LOCATION:Centro Cultural Universitario\, Córdoba 798\, Capital\, Corriente
 s\, 3400\, Argentina
X-APPLE-STRUCTURED-LOCATION;VALUE=URI;X-ADDRESS=Córdoba 798\, Capital\, Co
 rrientes\, 3400\, Argentina;X-APPLE-RADIUS=100;X-TITLE=Centro Cultural Uni
 versitario:geo:0,0
END:VEVENT
BEGIN:VTIMEZONE
TZID:America/Argentina/Buenos_Aires
X-LIC-LOCATION:America/Argentina/Buenos_Aires
BEGIN:STANDARD
DTSTART:20240416T200000
TZOFFSETFROM:-0300
TZOFFSETTO:-0300
TZNAME:-03
END:STANDARD
END:VTIMEZONE
END:VCALENDAR