BEGIN:VCALENDAR
VERSION:2.0
PRODID:-//wp-events-plugin.com//7.2.3.1//EN
TZID:America/Argentina/Buenos_Aires
X-WR-TIMEZONE:America/Argentina/Buenos_Aires
BEGIN:VEVENT
UID:973@unne.edu.ar
DTSTART;TZID=America/Argentina/Buenos_Aires;VALUE=DATE:20251020
DTEND;TZID=America/Argentina/Buenos_Aires;VALUE=DATE:20251021
DTSTAMP:20251020T102729Z
URL:https://www.unne.edu.ar/agenda/eventos/%f0%9f%8c%8d%e2%9c%a8-octubre-u
 rbano-2025-%f0%9f%94%b9-ecocampus-2030/
SUMMARY:🌍✨ Octubre Urbano 2025 - 🔹 “ECOCAMPUS 2030”
DESCRIPTION:Presentación ECOCAMPUS 2030...\nEn el Campus Cabral\, en la Fa
 cultad de Ciencias Veterinarias - UNNE nos sumamos a la construcción de u
 n futuro sostenible.\n\n🔹 “ECOCAMPUS 2030”\n📅 Lunes 20 de octubr
 e\n📍 Campus Cabral – "Salón Schiffo"\n🕣 11:30 h\n\nRector: Dr. Ge
 rardo Omar LARROZA\nPte. Campus: Dra. Maria Fabiana CIPOLINI GALARZA\nCoDe
 STE: Arq. Mg. Mario Ruben BERENT\n\n♻️ Sumate y aportá tu voz para co
 nstruir un futuro más responsable y sostenible.
ATTACH;FMTTYPE=image/jpeg:https://www.unne.edu.ar/wp-content/uploads/ecoca
 mpus.jpeg
CATEGORIES:CEGAE - Centro de Gestión Ambiental y Ecología.
LOCATION:Campus "Sargento Cabral"\, Juan Bautista Cabral\, 2001\, Capital\
 , Corrientes\, 3400\, Argentina
X-APPLE-STRUCTURED-LOCATION;VALUE=URI;X-ADDRESS=Juan Bautista Cabral\, 200
 1\, Capital\, Corrientes\, 3400\, Argentina;X-APPLE-RADIUS=100;X-TITLE=Cam
 pus \"Sargento Cabral\":geo:0,0
END:VEVENT
BEGIN:VTIMEZONE
TZID:America/Argentina/Buenos_Aires
X-LIC-LOCATION:America/Argentina/Buenos_Aires
BEGIN:STANDARD
DTSTART:20241020T000000
TZOFFSETFROM:-0300
TZOFFSETTO:-0300
TZNAME:-03
END:STANDARD
END:VTIMEZONE
END:VCALENDAR