BEGIN:VCALENDAR
VERSION:2.0
PRODID:-//wp-events-plugin.com//7.2.3.1//EN
TZID:America/Argentina/Buenos_Aires
X-WR-TIMEZONE:America/Argentina/Buenos_Aires
BEGIN:VEVENT
UID:815@unne.edu.ar
DTSTART;TZID=America/Argentina/Buenos_Aires;VALUE=DATE:20250910
DTEND;TZID=America/Argentina/Buenos_Aires;VALUE=DATE:20250912
DTSTAMP:20250522T134315Z
URL:https://www.unne.edu.ar/agenda/eventos/3-congreso-de-educacion-y-tecno
 logias-del-mercosur/
SUMMARY:3° Congreso de Educación y Tecnologías del Mercosur
DESCRIPTION:
ATTACH;FMTTYPE=image/jpeg:https://www.unne.edu.ar/wp-content/uploads/3ER-E
 DUTICMERCOSUR.jpg
CATEGORIES:Sec. Gral. Académica
LOCATION:https://virtual.unne.edu.ar/SIED-UV/generico/formas-de-participaci
 on/
END:VEVENT
BEGIN:VTIMEZONE
TZID:America/Argentina/Buenos_Aires
X-LIC-LOCATION:America/Argentina/Buenos_Aires
BEGIN:STANDARD
DTSTART:20240910T000000
TZOFFSETFROM:-0300
TZOFFSETTO:-0300
TZNAME:-03
END:STANDARD
END:VTIMEZONE
END:VCALENDAR