BEGIN:VCALENDAR
VERSION:2.0
PRODID:-//wp-events-plugin.com//7.2.3.1//EN
TZID:America/Argentina/Buenos_Aires
X-WR-TIMEZONE:America/Argentina/Buenos_Aires
BEGIN:VEVENT
UID:921@unne.edu.ar
DTSTART;TZID=America/Argentina/Buenos_Aires:20250916T170000
DTEND;TZID=America/Argentina/Buenos_Aires:20250916T170000
DTSTAMP:20250910T112003Z
URL:https://www.unne.edu.ar/agenda/eventos/66-aniversario-de-la-direccion-
 general-de-bibliotecas-presentacion-de-libros-de-gaspar-rachz/
SUMMARY:66 aniversario de la Dirección General de Bibliotecas: Presentaci
 ón de libros de Gaspar Rachz
DESCRIPTION:📚✨ En el marco del 66 aniversario de la Dirección General
  de Bibliotecas\, celebramos con una cita especial junto a la literatura.\
 n\nEste martes 16 de septiembre a las 17 hs te invitamos a la presentació
 n de los libros de Gaspar Rachz:\n💙 La mariposa azul\n❤️ Amor lejan
 o\n\n📍 Lugar: Biblioteca central UNNE\, Av. Las Heras 727.\n\nUn encuen
 tro único para compartir historias\, emociones y el talento de un autor q
 ue conecta con cada lector.
ATTACH;FMTTYPE=image/jpeg:https://www.unne.edu.ar/wp-content/uploads/66-an
 iversario-de-la-Direccion-General-de-Bibliotecas.jpeg
CATEGORIES:Gestión UNNE
LOCATION:Campus Resistencia\, Av. Las Heras 727\, Resistencia\, Chaco\, 350
 0\, Argentina
X-APPLE-STRUCTURED-LOCATION;VALUE=URI;X-ADDRESS=Av. Las Heras 727\, Resiste
 ncia\, Chaco\, 3500\, Argentina;X-APPLE-RADIUS=100;X-TITLE=Campus Resisten
 cia:geo:0,0
END:VEVENT
BEGIN:VTIMEZONE
TZID:America/Argentina/Buenos_Aires
X-LIC-LOCATION:America/Argentina/Buenos_Aires
BEGIN:STANDARD
DTSTART:20240916T170000
TZOFFSETFROM:-0300
TZOFFSETTO:-0300
TZNAME:-03
END:STANDARD
END:VTIMEZONE
END:VCALENDAR