BEGIN:VCALENDAR
VERSION:2.0
PRODID:-//wp-events-plugin.com//7.2.3.1//EN
TZID:America/Argentina/Buenos_Aires
X-WR-TIMEZONE:America/Argentina/Buenos_Aires
BEGIN:VEVENT
UID:393@unne.edu.ar
DTSTART;TZID=America/Argentina/Buenos_Aires;VALUE=DATE:20240902
DTEND;TZID=America/Argentina/Buenos_Aires;VALUE=DATE:20240903
DTSTAMP:20240823T123333Z
URL:https://www.unne.edu.ar/agenda/eventos/7ma-edicion-de-lentes-violetas-
 en-la-universidad/
SUMMARY:7ma edición de "Lentes Violetas" en la Universidad
DESCRIPTION: Introducción a la perspectiva de género. La presente propues
 ta se inscribe en el marco de la Ley 27.499 “Ley Micaela” con la apues
 ta política e institucional para incorporar una mirada sensible al géner
 o y las sexualidades\, favoreciendo la prevención\, la sanción y la erra
 dicación de las violencias machistas\, y promoviendo relaciones de iguald
 ad en la diversidad en la Educación Superior\n\n El mismo está destinad
 o a la comunidad universitaria y público en general.\n\n Este curso busca
  Sensibilizar en materia de género\, violencias y derechos humanos. Refle
 xionar sobre diversas prácticas que refuerzan y perpetúan estereotipos d
 e género\, que reproducen formas de discriminación y violencia en razón
  del género en la comunidad universitaria.\n\n Para más información y 
 acceso al curso: https://bit.ly/LentesVioletas\n\n&nbsp\;\n\n&nbsp\;
ATTACH;FMTTYPE=image/jpeg:https://www.unne.edu.ar/wp-content/uploads/Flyer
 LentesVioletas.jpeg
CATEGORIES:Gestión UNNE
LOCATION:https://bit.ly/LentesVioletas
END:VEVENT
BEGIN:VTIMEZONE
TZID:America/Argentina/Buenos_Aires
X-LIC-LOCATION:America/Argentina/Buenos_Aires
BEGIN:STANDARD
DTSTART:20230903T000000
TZOFFSETFROM:-0300
TZOFFSETTO:-0300
TZNAME:-03
END:STANDARD
END:VTIMEZONE
END:VCALENDAR