BEGIN:VCALENDAR
VERSION:2.0
PRODID:-//wp-events-plugin.com//7.2.3.1//EN
TZID:America/Argentina/Buenos_Aires
X-WR-TIMEZONE:America/Argentina/Buenos_Aires
BEGIN:VEVENT
UID:546@unne.edu.ar
DTSTART;TZID=America/Argentina/Buenos_Aires:20241213T190000
DTEND;TZID=America/Argentina/Buenos_Aires:20241213T190000
DTSTAMP:20241209T100151Z
URL:https://www.unne.edu.ar/agenda/eventos/acto-en-conmemoracion-del-50-an
 iversario/
SUMMARY:Acto en Conmemoración del 50° Aniversario
DESCRIPTION:
ATTACH;FMTTYPE=image/jpeg:https://www.unne.edu.ar/wp-content/uploads/13.12
 -scaled.jpg
CATEGORIES:Gestión UNNE
LOCATION:Campus "Sargento Cabral"\, Juan Bautista Cabral\, 2001\, Capital\
 , Corrientes\, 3400\, Argentina
X-APPLE-STRUCTURED-LOCATION;VALUE=URI;X-ADDRESS=Juan Bautista Cabral\, 200
 1\, Capital\, Corrientes\, 3400\, Argentina;X-APPLE-RADIUS=100;X-TITLE=Cam
 pus \"Sargento Cabral\":geo:0,0
END:VEVENT
BEGIN:VTIMEZONE
TZID:America/Argentina/Buenos_Aires
X-LIC-LOCATION:America/Argentina/Buenos_Aires
BEGIN:STANDARD
DTSTART:20231214T190000
TZOFFSETFROM:-0300
TZOFFSETTO:-0300
TZNAME:-03
END:STANDARD
END:VTIMEZONE
END:VCALENDAR