BEGIN:VCALENDAR
VERSION:2.0
PRODID:-//wp-events-plugin.com//7.2.3.1//EN
TZID:America/Argentina/Buenos_Aires
X-WR-TIMEZONE:America/Argentina/Buenos_Aires
BEGIN:VEVENT
UID:1075@unne.edu.ar
DTSTART;TZID=America/Argentina/Buenos_Aires:20251212T203000
DTEND;TZID=America/Argentina/Buenos_Aires:20251212T203000
DTSTAMP:20251202T123133Z
URL:https://www.unne.edu.ar/agenda/eventos/aniversario-unne-la-celebracion
 -del-sol/
SUMMARY:Aniversario UNNE "La Celebración del Sol"
DESCRIPTION:
ATTACH;FMTTYPE=image/jpeg:https://www.unne.edu.ar/wp-content/uploads/Gala2
 025.jpeg
CATEGORIES:Gestión UNNE
LOCATION:Guido Miranda\, Colón 164\, Resistencia\, Chaco\, Argentina
X-APPLE-STRUCTURED-LOCATION;VALUE=URI;X-ADDRESS=Colón 164\, Resistencia\, 
 Chaco\, Argentina;X-APPLE-RADIUS=100;X-TITLE=Guido Miranda:geo:0,0
END:VEVENT
BEGIN:VTIMEZONE
TZID:America/Argentina/Buenos_Aires
X-LIC-LOCATION:America/Argentina/Buenos_Aires
BEGIN:STANDARD
DTSTART:20241212T203000
TZOFFSETFROM:-0300
TZOFFSETTO:-0300
TZNAME:-03
END:STANDARD
END:VTIMEZONE
END:VCALENDAR