BEGIN:VCALENDAR
VERSION:2.0
PRODID:-//wp-events-plugin.com//7.2.3.1//EN
TZID:America/Argentina/Buenos_Aires
X-WR-TIMEZONE:America/Argentina/Buenos_Aires
BEGIN:VEVENT
UID:333@unne.edu.ar
DTSTART;TZID=America/Argentina/Buenos_Aires;VALUE=DATE:20300101
DTEND;TZID=America/Argentina/Buenos_Aires;VALUE=DATE:20300102
DTSTAMP:20240508T130953Z
URL:https://www.unne.edu.ar/agenda/eventos/ano-nuevo-2030-01-01/
SUMMARY:Año nuevo
DESCRIPTION:
CATEGORIES:Recesos, Feriados y Días no Laborables
END:VEVENT
BEGIN:VTIMEZONE
TZID:America/Argentina/Buenos_Aires
X-LIC-LOCATION:America/Argentina/Buenos_Aires
BEGIN:STANDARD
DTSTART:20290101T000000
TZOFFSETFROM:-0300
TZOFFSETTO:-0300
TZNAME:-03
END:STANDARD
END:VTIMEZONE
END:VCALENDAR