BEGIN:VCALENDAR
VERSION:2.0
PRODID:-//wp-events-plugin.com//7.2.3.1//EN
TZID:America/Argentina/Buenos_Aires
X-WR-TIMEZONE:America/Argentina/Buenos_Aires
BEGIN:VEVENT
UID:661@unne.edu.ar
DTSTART;TZID=America/Argentina/Buenos_Aires;VALUE=DATE:20250310
DTEND;TZID=America/Argentina/Buenos_Aires;VALUE=DATE:20250311
DTSTAMP:20250313T130114Z
URL:https://www.unne.edu.ar/agenda/eventos/apertura-convocatoria-programa-
 de-fortalecimiento-de-posgrado/
SUMMARY:Apertura convocatoria Programa de Fortalecimiento de Posgrado
DESCRIPTION:
ATTACH;FMTTYPE=image/jpeg:https://www.unne.edu.ar/wp-content/uploads/Forta
 lecimiento-del-Posgrado.png
CATEGORIES:Sec. Gral. de Posgrado
END:VEVENT
BEGIN:VTIMEZONE
TZID:America/Argentina/Buenos_Aires
X-LIC-LOCATION:America/Argentina/Buenos_Aires
BEGIN:STANDARD
DTSTART:20240310T000000
TZOFFSETFROM:-0300
TZOFFSETTO:-0300
TZNAME:-03
END:STANDARD
END:VTIMEZONE
END:VCALENDAR