BEGIN:VCALENDAR
VERSION:2.0
PRODID:-//wp-events-plugin.com//7.2.3.1//EN
TZID:America/Argentina/Buenos_Aires
X-WR-TIMEZONE:America/Argentina/Buenos_Aires
BEGIN:VEVENT
UID:403@unne.edu.ar
DTSTART;TZID=America/Argentina/Buenos_Aires:20240830T120000
DTEND;TZID=America/Argentina/Buenos_Aires:20240830T130000
DTSTAMP:20240827T175127Z
URL:https://www.unne.edu.ar/agenda/eventos/apertura-del-dictado-de-la-quin
 ta-cohorte-de-la-carrera-de-posgrado-maestria-en-ciencias-de-la-enfermeria
 -comunitaria/
SUMMARY:Apertura del dictado de la Quinta Cohorte de la Carrera de Posgrado
  "Maestría en Ciencias de la Enfermería Comunitaria"
DESCRIPTION:Link de acceso directo: zoom.us/j/96120276512\nID de la reunió
 n: 961-2027-6512\nContraseña: mec3
ATTACH;FMTTYPE=image/jpeg:https://www.unne.edu.ar/wp-content/uploads/Whats
 App-Image-2024-08-27-at-10.58.31.jpeg
CATEGORIES:Facultad de Medicina
LOCATION:https://zoom.us/j/96120276512
END:VEVENT
BEGIN:VTIMEZONE
TZID:America/Argentina/Buenos_Aires
X-LIC-LOCATION:America/Argentina/Buenos_Aires
BEGIN:STANDARD
DTSTART:20230831T120000
TZOFFSETFROM:-0300
TZOFFSETTO:-0300
TZNAME:-03
END:STANDARD
END:VTIMEZONE
END:VCALENDAR