BEGIN:VCALENDAR
VERSION:2.0
PRODID:-//wp-events-plugin.com//7.2.3.1//EN
TZID:America/Argentina/Buenos_Aires
X-WR-TIMEZONE:America/Argentina/Buenos_Aires
BEGIN:VEVENT
UID:908@unne.edu.ar
DTSTART;TZID=America/Argentina/Buenos_Aires;VALUE=DATE:20250910
DTEND;TZID=America/Argentina/Buenos_Aires;VALUE=DATE:20250913
DTSTAMP:20250827T115645Z
URL:https://www.unne.edu.ar/agenda/eventos/caem-2025-congreso-argentino-de
 -educacion-medica/
SUMMARY:CAEM 2025 – Congreso Argentino de Educación Médica
DESCRIPTION:Un espacio de formación\, intercambio y actualización para to
 do el equipo de salud .\n\nEspecialistas invitados\, conferencias y taller
 es y más. Una oportunidad de crear redes y potenciar tu desarrollo profes
 ional.\n\nNos honra contar con la participación de destacados referentes 
 de la Educación Médica a nivel mundial:\n\n👉Dr. Olle ten Cate (Paíse
 s Bajos)\nMédico por la Universidad de Ámsterdam. Reconocido investigado
 r y autor de numerosas publicaciones en el campo de la educación médica.
 \n\n👉Dr. Jesús Manuel Morán Barrios (España)\nProfesor\, asesor y ex
 perto en Educación Médica. Doctor en Medicina por la Universidad del Pa
 ís Vasco.\n\n👉Dr. Ramón Esperón Hernández (México)\nAcadémico de 
 la Universidad Autónoma de Yucatán. Presidente de la Asociación Mexican
 a de Facultades y Escuelas de Medicina (AMFEM).\n\nMás
ATTACH;FMTTYPE=image/jpeg:https://www.unne.edu.ar/wp-content/uploads/CAEM_
 2025.jpg
LOCATION:https://caem.med.unne.edu.ar/programa/
END:VEVENT
BEGIN:VTIMEZONE
TZID:America/Argentina/Buenos_Aires
X-LIC-LOCATION:America/Argentina/Buenos_Aires
BEGIN:STANDARD
DTSTART:20240910T000000
TZOFFSETFROM:-0300
TZOFFSETTO:-0300
TZNAME:-03
END:STANDARD
END:VTIMEZONE
END:VCALENDAR