BEGIN:VCALENDAR
VERSION:2.0
PRODID:-//wp-events-plugin.com//7.2.3.1//EN
TZID:America/Argentina/Buenos_Aires
X-WR-TIMEZONE:America/Argentina/Buenos_Aires
BEGIN:VEVENT
UID:371@unne.edu.ar
DTSTART;TZID=America/Argentina/Buenos_Aires:20240802T090000
DTEND;TZID=America/Argentina/Buenos_Aires:20240802T120000
DTSTAMP:20240801T161209Z
URL:https://www.unne.edu.ar/agenda/eventos/capacitacion-sobre-la-nueva-ley
 -bases/
SUMMARY:Capacitación sobre la nueva ley Bases
DESCRIPTION:Dictada por la Mgter Margarita Correa de Payes\, en la sala de 
 Consejo Superior del Instituto de Rectorado.
ATTACH;FMTTYPE=image/jpeg:https://www.unne.edu.ar/wp-content/uploads/Recto
 rado.jpg
CATEGORIES:Gestión UNNE
LOCATION:Rectorado - UNNE\, 25 de Mayo 868\, Corrientes\, Corrientes\, 3400
 \, Argentina
X-APPLE-STRUCTURED-LOCATION;VALUE=URI;X-ADDRESS=25 de Mayo 868\, Corrientes
 \, Corrientes\, 3400\, Argentina;X-APPLE-RADIUS=100;X-TITLE=Rectorado - UN
 NE:geo:0,0
END:VEVENT
BEGIN:VTIMEZONE
TZID:America/Argentina/Buenos_Aires
X-LIC-LOCATION:America/Argentina/Buenos_Aires
BEGIN:STANDARD
DTSTART:20230803T090000
TZOFFSETFROM:-0300
TZOFFSETTO:-0300
TZNAME:-03
END:STANDARD
END:VTIMEZONE
END:VCALENDAR