BEGIN:VCALENDAR
VERSION:2.0
PRODID:-//wp-events-plugin.com//7.2.3.1//EN
TZID:America/Argentina/Buenos_Aires
X-WR-TIMEZONE:America/Argentina/Buenos_Aires
BEGIN:VEVENT
UID:976@unne.edu.ar
DTSTART;TZID=America/Argentina/Buenos_Aires:20251021T170000
DTEND;TZID=America/Argentina/Buenos_Aires:20251021T170000
DTSTAMP:20251020T122001Z
URL:https://www.unne.edu.ar/agenda/eventos/celdas-de-media-tension-centros
 -de-transformacion-charla-tecnica-taller-de-maniobras/
SUMMARY:Celdas de Media Tension & Centros de Transformación. Charla Técni
 ca + Taller de maniobras
DESCRIPTION:Destinado a estudiantes\, docentes\, electricistas\, técnicos 
 e ingenieros.\n\nLugar: Parque tecnológico UNNE Corrientes.\n\nOrganizado
  por Consejo Ctes. \, Subs Infraestructura de la UNNE y empresa Ormazabal
ATTACH;FMTTYPE=image/jpeg:https://www.unne.edu.ar/wp-content/uploads/Ormaz
 abal.jpeg
LOCATION:/wp-content/uploads/Ormazabal-capacitacion-2025-UNNE-Corrientes-2.
 pdf
END:VEVENT
BEGIN:VTIMEZONE
TZID:America/Argentina/Buenos_Aires
X-LIC-LOCATION:America/Argentina/Buenos_Aires
BEGIN:STANDARD
DTSTART:20241021T170000
TZOFFSETFROM:-0300
TZOFFSETTO:-0300
TZNAME:-03
END:STANDARD
END:VTIMEZONE
END:VCALENDAR