BEGIN:VCALENDAR
VERSION:2.0
PRODID:-//wp-events-plugin.com//7.2.3.1//EN
TZID:America/Argentina/Buenos_Aires
X-WR-TIMEZONE:America/Argentina/Buenos_Aires
BEGIN:VEVENT
UID:983@unne.edu.ar
DTSTART;TZID=America/Argentina/Buenos_Aires:20251110T090000
DTEND;TZID=America/Argentina/Buenos_Aires:20251111T090000
DTSTAMP:20251105T124332Z
URL:https://www.unne.edu.ar/agenda/eventos/cerrar-los-ojos-y-sentir-el-vie
 nto-abrirlos-y-estar-en-malvinas-%f0%9f%87%a6%f0%9f%87%b7/
SUMMARY:Cerrar los ojos y sentir el viento. Abrirlos… y estar en Malvinas
  🇦🇷
DESCRIPTION:La muestra virtual “Pisar Malvinas” propone una experiencia
  inmersiva que combina historia\, tecnología y memoria.\n\nUna invitació
 n a recorrer las islas desde una perspectiva pedagógica\, sonora y profun
 damente humana.\n\nA través de cascos de realidad virtual podrás caminar
  por las islas\, interactuar con su entorno y escuchar el viento y las ola
 s del Atlántico Sur🌊\n\n📍 Campus Resistencia | Lunes 10 de noviembr
 e\n📍 Campus Deodoro Roca | Martes 11 de noviembre\n🕘 9 a 13 h y 14 a
  18 h
ATTACH;FMTTYPE=image/jpeg:https://www.unne.edu.ar/wp-content/uploads/pisar
 _malvinas.jpg
CATEGORIES:Sec. Gral. de Extensión Universitaria
END:VEVENT
BEGIN:VTIMEZONE
TZID:America/Argentina/Buenos_Aires
X-LIC-LOCATION:America/Argentina/Buenos_Aires
BEGIN:STANDARD
DTSTART:20241110T090000
TZOFFSETFROM:-0300
TZOFFSETTO:-0300
TZNAME:-03
END:STANDARD
END:VTIMEZONE
END:VCALENDAR