BEGIN:VCALENDAR
VERSION:2.0
PRODID:-//wp-events-plugin.com//7.2.3.1//EN
TZID:America/Argentina/Buenos_Aires
X-WR-TIMEZONE:America/Argentina/Buenos_Aires
BEGIN:VEVENT
UID:1077@unne.edu.ar
DTSTART;TZID=America/Argentina/Buenos_Aires:20251209T183000
DTEND;TZID=America/Argentina/Buenos_Aires:20251209T183000
DTSTAMP:20251203T143834Z
URL:https://www.unne.edu.ar/agenda/eventos/charla-propiedad-creativa-de-la
 -idea-al-registro/
SUMMARY:Charla “Propiedad Creativa: De la Idea al Registro”
DESCRIPTION:JORNADAS DE APROXIMACIÓN AL MUNDO PROFESIONAL\n\nIniciativa co
 njunta de la Federación Universitaria del Nordeste (FUNE) y el Área de G
 raduados – SGEU\, destinada a estudiantes próximos a egresar.\n\nBuscan
  acompañar la transición al mundo laboral\, brindar herramientas concret
 as y fortalecer el vínculo entre estudiantes\, graduados e institución.\
 n\nMartes 9 de diciembre - 18.30 hs.\n\nNalá Coworking: R. Sáenz Peña 4
 02\, 3er piso. Resistencia.\n\nInscripción previa. Acceso libre y gratuit
 o.\n\n 	Charla “Propiedad Creativa: De la Idea al Registro.”\n\nClaves
  legales para Estudiantes y Graduados de Diseño y Arquitectura.\n\nCharla
  a cargo del Abg. José Morel y la D.G. María Celeste Roldán. \n\nPropi
 edad intelectual\, patentes y registro de marca en diseño gráfico\, indu
 strial y arquitectura. Herramientas para resguardar la autoría\, la innov
 ación y la identidad desde la etapa inicial del proyecto. \n\n 	Presenta
 ción Banco - Línea de crédito para graduados.\n/ Nuevo Banco del Chaco.
  \n\n(Duración: 90 minutos. c/ break)
ATTACH;FMTTYPE=image/jpeg:https://www.unne.edu.ar/wp-content/uploads/flyer
 -feed-Charla-Propiedad-Creativa-scaled.png
CATEGORIES:Sec. Gral. de Extensión Universitaria
LOCATION:https://docs.google.com/forms/d/1o6TNSiXvtbHjrKAbIXYF5ATos_6tGA0VL
 iDk-AB9zFc/viewform?edit_requested=true
END:VEVENT
BEGIN:VTIMEZONE
TZID:America/Argentina/Buenos_Aires
X-LIC-LOCATION:America/Argentina/Buenos_Aires
BEGIN:STANDARD
DTSTART:20241209T183000
TZOFFSETFROM:-0300
TZOFFSETTO:-0300
TZNAME:-03
END:STANDARD
END:VTIMEZONE
END:VCALENDAR