BEGIN:VCALENDAR
VERSION:2.0
PRODID:-//wp-events-plugin.com//7.2.3.1//EN
TZID:America/Argentina/Buenos_Aires
X-WR-TIMEZONE:America/Argentina/Buenos_Aires
BEGIN:VEVENT
UID:1078@unne.edu.ar
DTSTART;TZID=America/Argentina/Buenos_Aires:20251211T193000
DTEND;TZID=America/Argentina/Buenos_Aires:20251211T193000
DTSTAMP:20251205T162946Z
URL:https://www.unne.edu.ar/agenda/eventos/ciclo-de-cine-argentino-mes-de-
 diciembre/
SUMMARY:Ciclo de Cine Argentino - Mes de diciembre
DESCRIPTION:Disfruta de lo mejor del cine GRATIS en nuestro ciclo especial 
 con películas ganadoras de los Premios Oscar 2025.\nLugar: Salón Rossi -
  CCN - Arturo Illia 355\nDia: Todos los Jueves 19:30 hs\nEste Jueves 11 de
  diciembre: "Mensaje en una botella" (2025) Comedia. Drama.\nDuración: 12
 6 min. Dirección: Gabriel Nesci\nSinopsis: Una sommelier descubre un mét
 odo para enviarse mensajes al pasado y lo usa para corregir una mala decis
 ión. Sin embargo\, su presente cambia de forma inesperada\, llevándola a
  una realidad aún peor. Al intentar enmendar el error\, las consecuencias
  se vuelven catastróficas. Desesperada\, recurre una y otra vez al mecani
 smo\, atrapándose en un ciclo donde cada intento por arreglar su vida y l
 a de quienes la rodean la aleja más de la realidad que anhela.\nDestinata
 rios: Interesados y Público en general.\nLa entrada es libre y gratuita.\
 n\n
ATTACH;FMTTYPE=image/jpeg:https://www.unne.edu.ar/wp-content/uploads/Dicie
 mbre-Carrusel-03.jpg
CATEGORIES:Sec. Gral. de Extensión Universitaria
LOCATION:Centro Cultural Nordeste\, Arturo Illia 355\, Resistencia\, Chaco\
 , 3500\, Argentina
X-APPLE-STRUCTURED-LOCATION;VALUE=URI;X-ADDRESS=Arturo Illia 355\, Resisten
 cia\, Chaco\, 3500\, Argentina;X-APPLE-RADIUS=100;X-TITLE=Centro Cultural 
 Nordeste:geo:0,0
END:VEVENT
BEGIN:VTIMEZONE
TZID:America/Argentina/Buenos_Aires
X-LIC-LOCATION:America/Argentina/Buenos_Aires
BEGIN:STANDARD
DTSTART:20241211T193000
TZOFFSETFROM:-0300
TZOFFSETTO:-0300
TZNAME:-03
END:STANDARD
END:VTIMEZONE
END:VCALENDAR