BEGIN:VCALENDAR
VERSION:2.0
PRODID:-//wp-events-plugin.com//7.2.3.1//EN
TZID:America/Argentina/Buenos_Aires
X-WR-TIMEZONE:America/Argentina/Buenos_Aires
BEGIN:VEVENT
UID:987@unne.edu.ar
DTSTART;TZID=America/Argentina/Buenos_Aires:20251113T193000
DTEND;TZID=America/Argentina/Buenos_Aires:20251113T193000
DTSTAMP:20251107T144131Z
URL:https://www.unne.edu.ar/agenda/eventos/ciclo-de-cine-gratuito-mes-de-n
 oviembre/
SUMMARY:Ciclo de Cine Gratuito - Mes de noviembre
DESCRIPTION:Disfruta de lo mejor del cine GRATIS en nuestro ciclo especial 
 con películas ganadoras de los Premios Oscar 2025.\nLugar: Salón Rossi -
  CCN - Arturo Illia 355\nDia: Todos los Jueves 19:30 hs\nEste Jueves 13 de
  noviembre: "os Roses" (2025). Comedia. Comedia Negra.\nDuración: 105 min
 . Dirección: Jay Roach\nSinopsis: La vida parece fácil para la pareja pe
 rfecta que forman Ivy y Theo: carreras de éxito\, un matrimonio feliz y u
 nos hijos estupendos. Pero detrás de la fachada de su supuesta vida ideal
 \, se avecina una tormenta: la carrera de Theo se desploma mientras que la
 s ambiciones de Ivy despegan\, lo que desencadena una caja de Pandora de c
 ompetitividad y resentimiento ocultos.\nDestinatarios: Interesados y Públ
 ico en general.\nLa entrada es libre y gratuita.\n&nbsp\;\n\n
ATTACH;FMTTYPE=image/jpeg:https://www.unne.edu.ar/wp-content/uploads/Novie
 mbre-Carrusel-03.jpg
CATEGORIES:Sec. Gral. de Extensión Universitaria
LOCATION:Centro Cultural Nordeste\, Arturo Illia 355\, Resistencia\, Chaco\
 , 3500\, Argentina
X-APPLE-STRUCTURED-LOCATION;VALUE=URI;X-ADDRESS=Arturo Illia 355\, Resisten
 cia\, Chaco\, 3500\, Argentina;X-APPLE-RADIUS=100;X-TITLE=Centro Cultural 
 Nordeste:geo:0,0
END:VEVENT
BEGIN:VTIMEZONE
TZID:America/Argentina/Buenos_Aires
X-LIC-LOCATION:America/Argentina/Buenos_Aires
BEGIN:STANDARD
DTSTART:20241113T193000
TZOFFSETFROM:-0300
TZOFFSETTO:-0300
TZNAME:-03
END:STANDARD
END:VTIMEZONE
END:VCALENDAR