BEGIN:VCALENDAR
VERSION:2.0
PRODID:-//wp-events-plugin.com//7.2.3.1//EN
TZID:America/Argentina/Buenos_Aires
X-WR-TIMEZONE:America/Argentina/Buenos_Aires
BEGIN:VEVENT
UID:1047@unne.edu.ar
DTSTART;TZID=America/Argentina/Buenos_Aires:20251120T193000
DTEND;TZID=America/Argentina/Buenos_Aires:20251120T193000
DTSTAMP:20251117T094951Z
URL:https://www.unne.edu.ar/agenda/eventos/ciclo-de-cine-noviembre-2025-2/
SUMMARY:Ciclo de Cine Noviembre 2025
DESCRIPTION:Disfruta de lo mejor del cine GRATIS en nuestro ciclo especial 
 con películas ganadoras de los Premios Oscar 2025.\nLugar: Salón Rossi -
  CCN - Arturo Illia 355\nDia: Todos los Jueves 19:30 hs\nEste Jueves 20 de
  noviembre: "Amores Compartidos" (2025) Comedia. Romance | Amistad.\nDurac
 ión: 100 min. Dirección: Michael Angelo Covino\nSinopsis: Cuando Ashley 
 le pide el divorcio\, el bonachón de Carey acude a sus amigos\, Julie y P
 aul\, en busca de apoyo. Su secreto para ser felices es un matrimonio abie
 rto\, pero Carey cruza la línea y hace que todas sus relaciones se convie
 rtan en un caos.\nDestinatarios: Interesados y Público en general.\nLa en
 trada es libre y gratuita.\n
ATTACH;FMTTYPE=image/jpeg:https://www.unne.edu.ar/wp-content/uploads/Novie
 mbre-Carrusel-04.jpg
CATEGORIES:Sec. Gral. de Extensión Universitaria
LOCATION:Centro Cultural Nordeste\, Arturo Illia 355\, Resistencia\, Chaco\
 , 3500\, Argentina
X-APPLE-STRUCTURED-LOCATION;VALUE=URI;X-ADDRESS=Arturo Illia 355\, Resisten
 cia\, Chaco\, 3500\, Argentina;X-APPLE-RADIUS=100;X-TITLE=Centro Cultural 
 Nordeste:geo:0,0
END:VEVENT
BEGIN:VTIMEZONE
TZID:America/Argentina/Buenos_Aires
X-LIC-LOCATION:America/Argentina/Buenos_Aires
BEGIN:STANDARD
DTSTART:20241120T193000
TZOFFSETFROM:-0300
TZOFFSETTO:-0300
TZNAME:-03
END:STANDARD
END:VTIMEZONE
END:VCALENDAR