BEGIN:VCALENDAR
VERSION:2.0
PRODID:-//wp-events-plugin.com//7.2.3.1//EN
TZID:America/Argentina/Buenos_Aires
X-WR-TIMEZONE:America/Argentina/Buenos_Aires
BEGIN:VEVENT
UID:1052@unne.edu.ar
DTSTART;TZID=America/Argentina/Buenos_Aires:20251127T193000
DTEND;TZID=America/Argentina/Buenos_Aires:20251127T193000
DTSTAMP:20251125T103225Z
URL:https://www.unne.edu.ar/agenda/eventos/ciclo-de-cine-noviembre-2025-3/
SUMMARY:Ciclo de Cine Noviembre 2025
DESCRIPTION:Disfruta de lo mejor del cine GRATIS en nuestro ciclo especial 
 con películas ganadoras de los Premios Oscar 2025.\nLugar: Salón Rossi -
  CCN - Arturo Illia 355\nDia: Todos los Jueves 19:30 hs\nEste Jueves 27 de
  noviembre: "El Conjuro 4: Último Rito" (2025) Terror. Thriller | Sobrena
 tural. Años 80. Secuela. Familia. Basado en hechos reales.\nDuración: 13
 5 min. Dirección: Michael Chaves\nSinopsis: Los investigadores de lo para
 normal Ed y Lorraine Warren se enfrentan a un último caso aterrador en el
  que están implicadas entidades misteriosas a las que deben enfrentarse.\
 nDestinatarios: Interesados y Público en general.\nLa entrada es libre y 
 gratuita.\n\n
ATTACH;FMTTYPE=image/jpeg:https://www.unne.edu.ar/wp-content/uploads/Novie
 mbre-Carrusel-05.jpg
CATEGORIES:Sec. Gral. de Extensión Universitaria
LOCATION:Centro Cultural Nordeste\, Arturo Illia 355\, Resistencia\, Chaco\
 , 3500\, Argentina
X-APPLE-STRUCTURED-LOCATION;VALUE=URI;X-ADDRESS=Arturo Illia 355\, Resisten
 cia\, Chaco\, 3500\, Argentina;X-APPLE-RADIUS=100;X-TITLE=Centro Cultural 
 Nordeste:geo:0,0
END:VEVENT
BEGIN:VTIMEZONE
TZID:America/Argentina/Buenos_Aires
X-LIC-LOCATION:America/Argentina/Buenos_Aires
BEGIN:STANDARD
DTSTART:20241127T193000
TZOFFSETFROM:-0300
TZOFFSETTO:-0300
TZNAME:-03
END:STANDARD
END:VTIMEZONE
END:VCALENDAR