BEGIN:VCALENDAR
VERSION:2.0
PRODID:-//wp-events-plugin.com//7.2.3.1//EN
TZID:America/Argentina/Buenos_Aires
X-WR-TIMEZONE:America/Argentina/Buenos_Aires
BEGIN:VEVENT
UID:980@unne.edu.ar
DTSTART;TZID=America/Argentina/Buenos_Aires:20251106T193000
DTEND;TZID=America/Argentina/Buenos_Aires:20251106T193000
DTSTAMP:20251103T152501Z
URL:https://www.unne.edu.ar/agenda/eventos/ciclo-de-cine-noviembre-2025/
SUMMARY:Ciclo de Cine Noviembre 2025
DESCRIPTION:Disfruta de lo mejor del cine GRATIS en nuestro ciclo especial 
 con películas ganadoras de los Premios Oscar 2025.\nLugar: Salón Rossi -
  CCN - Arturo Illia 355\nDia: Todos los Jueves 19:30 hs\nEste Jueves 06 de
  noviembre: "Amenaza en el Aire" (2025). Acción. Thriller.\nDuración: 85
  min. Dirección: Mel Gibson\nSinopsis: Un piloto transporta en su avionet
 a a una teniente general que custodia a un testigo que va a testificar en 
 un juicio contra la mafia. A medida que atraviesan las\nmontañas de Alask
 a\, las tensiones se disparan\, ya que no todo el mundo a bordo es quien p
 arece ser. Y a 3000 metros de altura no hay escapatoria posible.\nDestinat
 arios: Interesados y Público en general.\nLa entrada es libre y gratuita.
 \n&nbsp\;
ATTACH;FMTTYPE=image/jpeg:https://www.unne.edu.ar/wp-content/uploads/Novie
 mbre-Carrusel-02.jpg
CATEGORIES:Sec. Gral. de Extensión Universitaria
LOCATION:Centro Cultural Nordeste\, Arturo Illia 355\, Resistencia\, Chaco\
 , 3500\, Argentina
X-APPLE-STRUCTURED-LOCATION;VALUE=URI;X-ADDRESS=Arturo Illia 355\, Resisten
 cia\, Chaco\, 3500\, Argentina;X-APPLE-RADIUS=100;X-TITLE=Centro Cultural 
 Nordeste:geo:0,0
END:VEVENT
BEGIN:VTIMEZONE
TZID:America/Argentina/Buenos_Aires
X-LIC-LOCATION:America/Argentina/Buenos_Aires
BEGIN:STANDARD
DTSTART:20241106T193000
TZOFFSETFROM:-0300
TZOFFSETTO:-0300
TZNAME:-03
END:STANDARD
END:VTIMEZONE
END:VCALENDAR