BEGIN:VCALENDAR
VERSION:2.0
PRODID:-//wp-events-plugin.com//7.2.3.1//EN
TZID:America/Argentina/Buenos_Aires
X-WR-TIMEZONE:America/Argentina/Buenos_Aires
BEGIN:VEVENT
UID:974@unne.edu.ar
DTSTART;TZID=America/Argentina/Buenos_Aires:20251023T193000
DTEND;TZID=America/Argentina/Buenos_Aires:20251023T193000
DTSTAMP:20251020T110355Z
URL:https://www.unne.edu.ar/agenda/eventos/ciclo-de-cine-octubre-2025-cicl
 o-de-terror-y-suspenso-4/
SUMMARY:Ciclo de Cine Octubre 2025 - "Ciclo de Terror y Suspenso"
DESCRIPTION:Disfruta de lo mejor del cine GRATIS en nuestro ciclo especial 
 con películas ganadoras de los Premios Oscar 2025.\nLugar: Salón Rossi -
  CCN - Arturo Illia 355\nDia: Todos los Jueves 19:30 hs\nEste Jueves 23 de
  octubre: "Together: Juntos hasta la muerte"(2025). Terror. Ciencia Fició
 n | Body Horror. Sobrenatural\nDuración: 102 min. Dirección: Michael Sha
 nks\nSinopsis: Una pareja con problemas en su relación se muda al campo\,
  donde descubren una cueva con una fuerza sobrenatural. Al beber agua de l
 a cueva\, comienzan a experimentar transformaciones físicas y emocionales
  que reflejan su codependencia.\nDestinatarios: Interesados y Público en 
 general.\nLa entrada es libre y gratuita.\n&nbsp\;
ATTACH;FMTTYPE=image/jpeg:https://www.unne.edu.ar/wp-content/uploads/Octub
 re-Carrusel-09.jpg
CATEGORIES:Sec. Gral. de Extensión Universitaria
LOCATION:Centro Cultural Nordeste\, Arturo Illia 355\, Resistencia\, Chaco\
 , 3500\, Argentina
X-APPLE-STRUCTURED-LOCATION;VALUE=URI;X-ADDRESS=Arturo Illia 355\, Resisten
 cia\, Chaco\, 3500\, Argentina;X-APPLE-RADIUS=100;X-TITLE=Centro Cultural 
 Nordeste:geo:0,0
END:VEVENT
BEGIN:VTIMEZONE
TZID:America/Argentina/Buenos_Aires
X-LIC-LOCATION:America/Argentina/Buenos_Aires
BEGIN:STANDARD
DTSTART:20241023T193000
TZOFFSETFROM:-0300
TZOFFSETTO:-0300
TZNAME:-03
END:STANDARD
END:VTIMEZONE
END:VCALENDAR