BEGIN:VCALENDAR
VERSION:2.0
PRODID:-//wp-events-plugin.com//7.2.3.1//EN
TZID:America/Argentina/Buenos_Aires
X-WR-TIMEZONE:America/Argentina/Buenos_Aires
BEGIN:VEVENT
UID:932@unne.edu.ar
DTSTART;TZID=America/Argentina/Buenos_Aires:20251002T193000
DTEND;TZID=America/Argentina/Buenos_Aires:20251002T193000
DTSTAMP:20251003T143410Z
URL:https://www.unne.edu.ar/agenda/eventos/ciclo-de-cine-octubre-2025-cicl
 o-de-terror-y-suspenso/
SUMMARY:Ciclo de Cine Octubre 2025 - "Ciclo de Terror y Suspenso"
DESCRIPTION:Disfruta de lo mejor del cine GRATIS en nuestro ciclo especial 
 con películas ganadoras de los Premios Oscar 2025.\nLugar: Salón Rossi -
  CCN - Arturo Illia 355\nDia: Todos los Jueves 19:30 hs\nEste Jueves 02 de
  octubre: “Pecadores”. Terror. Thriller . Duración: 137 min. Direcci
 ón: Ryan Coogler\nSinopsis: Tratando de dejar atrás sus problemáticas v
 idas\, dos hermanos gemelos (Jordan) regresan a su pueblo natal para empez
 ar de nuevo\, solo para descubrir que un\nmal aún mayor les espera para d
 arles la bienvenida.\nDestinatarios: Interesados y Público en general.\nL
 a entrada es libre y gratuita.\n&nbsp\;
ATTACH;FMTTYPE=image/jpeg:https://www.unne.edu.ar/wp-content/uploads/pecad
 ores.png
CATEGORIES:Sec. Gral. de Extensión Universitaria
LOCATION:Centro Cultural Nordeste\, Arturo Illia 355\, Resistencia\, Chaco\
 , 3500\, Argentina
X-APPLE-STRUCTURED-LOCATION;VALUE=URI;X-ADDRESS=Arturo Illia 355\, Resisten
 cia\, Chaco\, 3500\, Argentina;X-APPLE-RADIUS=100;X-TITLE=Centro Cultural 
 Nordeste:geo:0,0
END:VEVENT
BEGIN:VTIMEZONE
TZID:America/Argentina/Buenos_Aires
X-LIC-LOCATION:America/Argentina/Buenos_Aires
BEGIN:STANDARD
DTSTART:20241002T193000
TZOFFSETFROM:-0300
TZOFFSETTO:-0300
TZNAME:-03
END:STANDARD
END:VTIMEZONE
END:VCALENDAR