BEGIN:VCALENDAR
VERSION:2.0
PRODID:-//wp-events-plugin.com//7.2.3.1//EN
TZID:America/Argentina/Buenos_Aires
X-WR-TIMEZONE:America/Argentina/Buenos_Aires
BEGIN:VEVENT
UID:925@unne.edu.ar
DTSTART;TZID=America/Argentina/Buenos_Aires:20251008T080000
DTEND;TZID=America/Argentina/Buenos_Aires:20251008T080000
DTSTAMP:20250916T122207Z
URL:https://www.unne.edu.ar/agenda/eventos/ciclo-de-conferencias-2025-del-
 instituto-agrotecnico-pedro-m-fuentes-godo-2/
SUMMARY:Ciclo de Conferencias 2025 del Instituto Agrotécnico "Pedro M. Fue
 ntes Godo"
DESCRIPTION:Nos complace invitarlos a la conferencia "Los Frutales y Nosotr
 os" \nEl día 08 de octubre a las 08:00 am en el Salón Elizondo de la Se
 cretaría General de Extensión Universitaria\, Campus Resistencia (Av. La
 s Heras 727\, Resistencia\, Chaco). \nDisertante: Ing. Agr. (Dra.) Paula 
 Alayón Luaces de la Cátedra de Fruticultura de la Facultad de Ciencias A
 grarias UNNE.\n\nFormulario de inscripción:  https://forms.gle/A2Tg6yDaR
 BaTjxJVA\n\nLos esperamos!"
ATTACH;FMTTYPE=image/jpeg:https://www.unne.edu.ar/wp-content/uploads/IAGRO
 _conferencias20.jpg
CATEGORIES:Instituto Agrotécnico "Pedro M. Fuentes Godo"
LOCATION:https://forms.gle/A2Tg6yDaRBaTjxJVA
END:VEVENT
BEGIN:VTIMEZONE
TZID:America/Argentina/Buenos_Aires
X-LIC-LOCATION:America/Argentina/Buenos_Aires
BEGIN:STANDARD
DTSTART:20241008T080000
TZOFFSETFROM:-0300
TZOFFSETTO:-0300
TZNAME:-03
END:STANDARD
END:VTIMEZONE
END:VCALENDAR