BEGIN:VCALENDAR
VERSION:2.0
PRODID:-//wp-events-plugin.com//7.2.3.1//EN
TZID:America/Argentina/Buenos_Aires
X-WR-TIMEZONE:America/Argentina/Buenos_Aires
BEGIN:VEVENT
UID:907@unne.edu.ar
DTSTART;TZID=America/Argentina/Buenos_Aires:20250903T090000
DTEND;TZID=America/Argentina/Buenos_Aires:20250903T090000
DTSTAMP:20250826T135150Z
URL:https://www.unne.edu.ar/agenda/eventos/ciclo-de-conferencias-2025-del-
 instituto-agrotecnico-pedro-m-fuentes-godo-de-la-unne/
SUMMARY:Ciclo de Conferencias 2025 del Instituto Agrotécnico "Pedro M. Fue
 ntes Godo" de la UNNE
DESCRIPTION:Nos complace invitarlos a la conferencia "Frutales Nativos y Ex
 óticos para el NEA" \n\nEl día 03 de septiembre a las 09:00 am en el Sa
 lón Elizondo de la Secretaría General de Extensión Universitaria\, Camp
 us Resistencia (Av. Las Heras 727\, Resistencia\, Chaco). \n\nDisertante:
  Ing. Agr. Juan Víctor Sánchez del Vivero "El Guapurú" Corrientes Capit
 al.\n\nFormulario de inscripción: https://forms.gle/jMsKeZf6hut7Jept9\n\
 nLos esperamos!
ATTACH;FMTTYPE=image/jpeg:https://www.unne.edu.ar/wp-content/uploads/confe
 rencia-frutales-nativos-y-exoticos.jpg
CATEGORIES:Instituto Agrotécnico "Pedro M. Fuentes Godo"
LOCATION:https://forms.gle/jMsKeZf6hut7Jept9
END:VEVENT
BEGIN:VTIMEZONE
TZID:America/Argentina/Buenos_Aires
X-LIC-LOCATION:America/Argentina/Buenos_Aires
BEGIN:STANDARD
DTSTART:20240903T090000
TZOFFSETFROM:-0300
TZOFFSETTO:-0300
TZNAME:-03
END:STANDARD
END:VTIMEZONE
END:VCALENDAR