BEGIN:VCALENDAR
VERSION:2.0
PRODID:-//wp-events-plugin.com//7.2.3.1//EN
TZID:America/Argentina/Buenos_Aires
X-WR-TIMEZONE:America/Argentina/Buenos_Aires
BEGIN:VEVENT
UID:926@unne.edu.ar
DTSTART;TZID=America/Argentina/Buenos_Aires:20251008T100000
DTEND;TZID=America/Argentina/Buenos_Aires:20251008T100000
DTSTAMP:20250916T122136Z
URL:https://www.unne.edu.ar/agenda/eventos/ciclo-de-conferencias-2025-del-
 instituto-agrotecnico-pedro-m-fuentes-godo-que-hacer-si-nos-muerde-una-vib
 ora/
SUMMARY:Ciclo de Conferencias 2025 del Instituto Agrotécnico "Pedro M. Fue
 ntes Godo" ¿Qué hacer si nos muerde una víbora?"
DESCRIPTION:Nos complace invitarlos a la conferencia "¿Qué hacer si nos m
 uerde una víbora?" \nEl día 08 de octubre a las 10:00 am* en el *Salón
  Elizondo* de la Secretaría General de Extensión Universitaria\, Campus 
 Resistencia (Av. Las Heras 727\, Resistencia\, Chaco). \nDisertante: Med.
  Vet. (Mgter.) María Lucía Bustos de la Cátedra de Farmacología y Toxi
 cología de la Facultad de Ciencias Veterinarias de la UNNE y becaria doct
 oral CONICET.\n\nFormulario de inscripción: https://forms.gle/A2Tg6yDaRBa
 TjxJVA\n\nLos esperamos!"
ATTACH;FMTTYPE=image/jpeg:https://www.unne.edu.ar/wp-content/uploads/IAGRO
 _conferencias19.jpg
CATEGORIES:Instituto Agrotécnico "Pedro M. Fuentes Godo"
LOCATION:https://forms.gle/A2Tg6yDaRBaTjxJVA
END:VEVENT
BEGIN:VTIMEZONE
TZID:America/Argentina/Buenos_Aires
X-LIC-LOCATION:America/Argentina/Buenos_Aires
BEGIN:STANDARD
DTSTART:20241008T100000
TZOFFSETFROM:-0300
TZOFFSETTO:-0300
TZNAME:-03
END:STANDARD
END:VTIMEZONE
END:VCALENDAR