BEGIN:VCALENDAR
VERSION:2.0
PRODID:-//wp-events-plugin.com//7.2.3.1//EN
TZID:America/Argentina/Buenos_Aires
X-WR-TIMEZONE:America/Argentina/Buenos_Aires
BEGIN:VEVENT
UID:923@unne.edu.ar
DTSTART;TZID=America/Argentina/Buenos_Aires:20250919T200000
DTEND;TZID=America/Argentina/Buenos_Aires:20250919T200000
DTSTAMP:20250912T115613Z
URL:https://www.unne.edu.ar/agenda/eventos/ciclo-de-musica-septiembre-de-c
 amara-2/
SUMMARY:Ciclo de Música: “Septiembre de Cámara”
DESCRIPTION:Día: 06 al 27 de septiembre\n\nLugar: Salón Rossi - CCN - Art
 uro Illia 355\n\nVínculos – Concierto Conferencia sobre Contrabajo. Pro
 f. Norberto Juez (Santa fe)\n\nDia: 19 de septiembre – 20 hs\n\nDestinat
 arios: Instrumentistas de cuerdas\, vientos que integran Orquestas de Cám
 ara. Integrantes de Orquesta Sinfónica del Chaco. Orquesta Juvenil y Band
 a del ISPEA Música. Directores orquestas.\n\n&nbsp\;\n\n&nbsp\;
ATTACH;FMTTYPE=image/jpeg:https://www.unne.edu.ar/wp-content/uploads/10001
 41360.jpg
CATEGORIES:Sec. Gral. de Extensión Universitaria
LOCATION:Centro Cultural Nordeste\, Arturo Illia 355\, Resistencia\, Chaco\
 , 3500\, Argentina
X-APPLE-STRUCTURED-LOCATION;VALUE=URI;X-ADDRESS=Arturo Illia 355\, Resisten
 cia\, Chaco\, 3500\, Argentina;X-APPLE-RADIUS=100;X-TITLE=Centro Cultural 
 Nordeste:geo:0,0
END:VEVENT
BEGIN:VTIMEZONE
TZID:America/Argentina/Buenos_Aires
X-LIC-LOCATION:America/Argentina/Buenos_Aires
BEGIN:STANDARD
DTSTART:20240919T200000
TZOFFSETFROM:-0300
TZOFFSETTO:-0300
TZNAME:-03
END:STANDARD
END:VTIMEZONE
END:VCALENDAR