BEGIN:VCALENDAR
VERSION:2.0
PRODID:-//wp-events-plugin.com//7.2.3.1//EN
TZID:America/Argentina/Buenos_Aires
X-WR-TIMEZONE:America/Argentina/Buenos_Aires
BEGIN:VEVENT
UID:930@unne.edu.ar
DTSTART;TZID=America/Argentina/Buenos_Aires:20250927T200000
DTEND;TZID=America/Argentina/Buenos_Aires:20250927T200000
DTSTAMP:20250922T132851Z
URL:https://www.unne.edu.ar/agenda/eventos/ciclo-de-musica-septiembre-de-c
 amara-4/
SUMMARY:Ciclo de Música: “Septiembre de Cámara”
DESCRIPTION:Día: 06 al 27 de septiembre\n\nLugar: Salón Rossi - CCN - Art
 uro Illia 355\n\nOrquesta de Cámara de la UNNE – Dir. Invitado: Enrique
  Alvarez (Asunción).\n\nSeminario sobre Música para cuerdas y repertorio
  Latinoamericano.\n\nDia: 27 de septiembre – 20 hs: Coro Polifónico de 
 Resistencia – Coro Universitario de la UNNE\n\nDestinatarios: Instrument
 istas de cuerdas\, vientos que integran Orquestas de Cámara. Integrantes 
 de Orquesta Sinfónica del Chaco. Orquesta Juvenil y Banda del ISPEA Músi
 ca. Directores orquestas.
ATTACH;FMTTYPE=image/jpeg:https://www.unne.edu.ar/wp-content/uploads/Septi
 embredeCamara27-09.jpeg
CATEGORIES:Sec. Gral. de Extensión Universitaria
LOCATION:Centro Cultural Nordeste\, Arturo Illia 355\, Resistencia\, Chaco\
 , 3500\, Argentina
X-APPLE-STRUCTURED-LOCATION;VALUE=URI;X-ADDRESS=Arturo Illia 355\, Resisten
 cia\, Chaco\, 3500\, Argentina;X-APPLE-RADIUS=100;X-TITLE=Centro Cultural 
 Nordeste:geo:0,0
END:VEVENT
BEGIN:VTIMEZONE
TZID:America/Argentina/Buenos_Aires
X-LIC-LOCATION:America/Argentina/Buenos_Aires
BEGIN:STANDARD
DTSTART:20240927T200000
TZOFFSETFROM:-0300
TZOFFSETTO:-0300
TZNAME:-03
END:STANDARD
END:VTIMEZONE
END:VCALENDAR