BEGIN:VCALENDAR
VERSION:2.0
PRODID:-//wp-events-plugin.com//7.2.3.1//EN
TZID:America/Argentina/Buenos_Aires
X-WR-TIMEZONE:America/Argentina/Buenos_Aires
BEGIN:VEVENT
UID:918@unne.edu.ar
DTSTART;TZID=America/Argentina/Buenos_Aires:20250912T200000
DTEND;TZID=America/Argentina/Buenos_Aires:20250912T200000
DTSTAMP:20250908T142024Z
URL:https://www.unne.edu.ar/agenda/eventos/ciclo-de-musica-septiembre-de-c
 amara/
SUMMARY:Ciclo de Música: “Septiembre de Cámara”
DESCRIPTION:Lugar: Salón Rossi - CCN - Arturo Illia 355\nConcierto Coro ju
 venil – ISPEA Música - Coro universitario de la UNNE\nDia: 12 de septie
 mbre – 20 hs \nDestinatarios: Instrumentistas de cuerdas\, vientos que i
 ntegran Orquestas de Cámara. Integrantes de Orquesta Sinfónica del Chaco
 . Orquesta Juvenil y Banda del ISPEA Música. Directores orquestas.\n&nbsp
 \;
ATTACH;FMTTYPE=image/jpeg:https://www.unne.edu.ar/wp-content/uploads/Ciclo
 _de_Musica_Sep.jpeg
CATEGORIES:Sec. Gral. de Extensión Universitaria
LOCATION:Centro Cultural Nordeste\, Arturo Illia 355\, Resistencia\, Chaco\
 , 3500\, Argentina
X-APPLE-STRUCTURED-LOCATION;VALUE=URI;X-ADDRESS=Arturo Illia 355\, Resisten
 cia\, Chaco\, 3500\, Argentina;X-APPLE-RADIUS=100;X-TITLE=Centro Cultural 
 Nordeste:geo:0,0
END:VEVENT
BEGIN:VTIMEZONE
TZID:America/Argentina/Buenos_Aires
X-LIC-LOCATION:America/Argentina/Buenos_Aires
BEGIN:STANDARD
DTSTART:20240912T200000
TZOFFSETFROM:-0300
TZOFFSETTO:-0300
TZNAME:-03
END:STANDARD
END:VTIMEZONE
END:VCALENDAR