BEGIN:VCALENDAR
VERSION:2.0
PRODID:-//wp-events-plugin.com//7.2.3.1//EN
TZID:America/Argentina/Buenos_Aires
X-WR-TIMEZONE:America/Argentina/Buenos_Aires
BEGIN:VEVENT
UID:785@unne.edu.ar
DTSTART;TZID=America/Argentina/Buenos_Aires:20250520T150000
DTEND;TZID=America/Argentina/Buenos_Aires:20250520T190000
DTSTAMP:20250424T114718Z
URL:https://www.unne.edu.ar/agenda/eventos/ciclo-de-talleres-presenciales-
 gestiona-tu-emprendimiento-talle-3-marketing-para-emprendedores-redes-soci
 ales-ia-en-tu-emprendimiento/
SUMMARY:Ciclo de talleres presenciales "Gestioná tu Emprendimiento". Talle
 r 3° Marketing para Emprendedores. Redes Sociales. IA en tu emprendimient
 o.
DESCRIPTION:El Municipio de la Ciudad de Corrientes junto a la Fundación U
 NNETEC INNOVAR\, ofrece esta propuesta de capacitación para acompañar y 
 fortalecer los emprendimientos de la Ciudad. A través de cuatro encuentro
 s destinados a difundir y promover el desarrollo de competencias emprended
 oras\, el implemento de herramientas y metodologías ágiles\, se buscará
  promover en el emprendedor mecanismos para identificar necesidades y reso
 lver problemáticas propias de su actividad.\n\nDestinatarios: Emprendedo
 res/as  titulares de proyectos en marcha.\n\nModalidad: Presencial - Cupo
 s limitados\n\nLugar:  Facultad de Medicina - Moreno 1240 - Salón Tray
 nor\n\n&nbsp\;\n\n3° Encuentro - Martes 20/05/25 - de 15 a 19hs\nMarketi
 ng para Emprendedores. Redes Sociales. IA en tu emprendimiento.\n\n&nbsp\;
 \n\nConsultas\nFUNDACIÓN UNNETEC INNOVAR\nParque Tecnológico UNNE - Ruta
  12 s/n\nsecretariaunnetec@gmail.com
ATTACH;FMTTYPE=image/jpeg:https://www.unne.edu.ar/wp-content/uploads/Talle
 res_Emprendimientos.jpg
CATEGORIES:Sec. Gral. de Relaciones Interinstitucionales
LOCATION:https://docs.google.com/forms/d/e/1FAIpQLSckd1ghjRJlxecaR64G7xis6A
 UlIc2ipRbrSFG9cj_gUTNE7w/viewform
END:VEVENT
BEGIN:VTIMEZONE
TZID:America/Argentina/Buenos_Aires
X-LIC-LOCATION:America/Argentina/Buenos_Aires
BEGIN:STANDARD
DTSTART:20240520T150000
TZOFFSETFROM:-0300
TZOFFSETTO:-0300
TZNAME:-03
END:STANDARD
END:VTIMEZONE
END:VCALENDAR