BEGIN:VCALENDAR
VERSION:2.0
PRODID:-//wp-events-plugin.com//7.2.3.1//EN
TZID:America/Argentina/Buenos_Aires
X-WR-TIMEZONE:America/Argentina/Buenos_Aires
BEGIN:VEVENT
UID:1055@unne.edu.ar
DTSTART;TZID=America/Argentina/Buenos_Aires:20251128T180000
DTEND;TZID=America/Argentina/Buenos_Aires:20251128T180000
DTSTAMP:20251125T104108Z
URL:https://www.unne.edu.ar/agenda/eventos/cierre-del-taller-de-dibujo-y-p
 intura-y-arte-experimental-arte-sin-limites/
SUMMARY:Cierre del Taller de Dibujo y Pintura y Arte Experimental: “Arte 
 sin limites”
DESCRIPTION:Lugar: Galería del Sol - CCN - Arturo Illia 355\nDia: Viernes 
 28 de noviembre – 18hs\nDirección: Prof. Verónica Almirón\, Gustavo M
 endoza y Matías Vargas\nDestinatarios: Interesados y Público en general.
 \nLa entrada es libre y gratuita.
ATTACH;FMTTYPE=image/jpeg:https://www.unne.edu.ar/wp-content/uploads/Cierr
 e-talleres-2025-09.jpg
CATEGORIES:Sec. Gral. de Extensión Universitaria
LOCATION:Centro Cultural Nordeste\, Arturo Illia 355\, Resistencia\, Chaco\
 , 3500\, Argentina
X-APPLE-STRUCTURED-LOCATION;VALUE=URI;X-ADDRESS=Arturo Illia 355\, Resisten
 cia\, Chaco\, 3500\, Argentina;X-APPLE-RADIUS=100;X-TITLE=Centro Cultural 
 Nordeste:geo:0,0
END:VEVENT
BEGIN:VTIMEZONE
TZID:America/Argentina/Buenos_Aires
X-LIC-LOCATION:America/Argentina/Buenos_Aires
BEGIN:STANDARD
DTSTART:20241128T180000
TZOFFSETFROM:-0300
TZOFFSETTO:-0300
TZNAME:-03
END:STANDARD
END:VTIMEZONE
END:VCALENDAR