BEGIN:VCALENDAR
VERSION:2.0
PRODID:-//wp-events-plugin.com//7.2.3.1//EN
TZID:America/Argentina/Buenos_Aires
X-WR-TIMEZONE:America/Argentina/Buenos_Aires
BEGIN:VEVENT
UID:1056@unne.edu.ar
DTSTART;TZID=America/Argentina/Buenos_Aires:20251127T200000
DTEND;TZID=America/Argentina/Buenos_Aires:20251127T200000
DTSTAMP:20251125T122812Z
URL:https://www.unne.edu.ar/agenda/eventos/cierre-taller-de-formacion-acto
 ral-oniria-version-libre-de-una-pesadilla/
SUMMARY:Cierre Taller de Formación Actoral: “Oniria: versión libre de u
 na pesadilla”
DESCRIPTION:Lugar: Aula Magna UNNE ‘’Dr. Raúl Alfonsín’’ – Av L
 as Heras 720. Resistencia\nDia: Jueves 27 de noviembre – 20hs\nDirecció
 n: Prof. Guadalupe Nera\nDestinatarios: Interesados y Público en general.
 \nLa entrada es libre y gratuita.\n
ATTACH;FMTTYPE=image/jpeg:https://www.unne.edu.ar/wp-content/uploads/Cierr
 e-talleres-2025-06.jpg
CATEGORIES:Sec. Gral. de Extensión Universitaria
LOCATION:Campus Resistencia\, Av. Las Heras 727\, Resistencia\, Chaco\, 350
 0\, Argentina
X-APPLE-STRUCTURED-LOCATION;VALUE=URI;X-ADDRESS=Av. Las Heras 727\, Resiste
 ncia\, Chaco\, 3500\, Argentina;X-APPLE-RADIUS=100;X-TITLE=Campus Resisten
 cia:geo:0,0
END:VEVENT
BEGIN:VTIMEZONE
TZID:America/Argentina/Buenos_Aires
X-LIC-LOCATION:America/Argentina/Buenos_Aires
BEGIN:STANDARD
DTSTART:20241127T200000
TZOFFSETFROM:-0300
TZOFFSETTO:-0300
TZNAME:-03
END:STANDARD
END:VTIMEZONE
END:VCALENDAR