BEGIN:VCALENDAR
VERSION:2.0
PRODID:-//wp-events-plugin.com//7.2.3.1//EN
TZID:America/Argentina/Buenos_Aires
X-WR-TIMEZONE:America/Argentina/Buenos_Aires
BEGIN:VEVENT
UID:896@unne.edu.ar
DTSTART;TZID=America/Argentina/Buenos_Aires;VALUE=DATE:20251001
DTEND;TZID=America/Argentina/Buenos_Aires;VALUE=DATE:20251004
DTSTAMP:20250805T120213Z
URL:https://www.unne.edu.ar/agenda/eventos/concurso-de-jovenes-de-bioestad
 istica-maria-mercedes-avanza/
SUMMARY:Concurso de Jóvenes de Bioestadística "María Mercedes Avanza"
DESCRIPTION:En el marco de la XXIX Reunión Científica del Grupo Argentino
  de Bioestadística\, se lanza el Concurso de Jóvenes de Bioestadística 
 "María Mercedes Avanza" 🏆📊\n\n🧬 Tema del concurso:\nEvaluación 
 multi-ambiental de híbridos apomícticos avanzados de Paspalum notatum\n\
 n🎓 Convocatoria abierta para estudiantes de Grado y Posgrado de todo el
  país.\nUna excelente oportunidad para aplicar tus conocimientos\, compar
 tir tu trabajo y ser parte activa de este evento de referencia en el campo
  de la bioestadística.\n\n🏅 Se hará entrega de premios a los trabajos
  ganadores!\n🔎 Más información en:\n👉 https://reunion2025.gab.com.
 ar/concursojovenes/\n📩 Ante alguna duda también podés escribir a: laf
 fittesmandes@gmail.com
ATTACH;FMTTYPE=image/jpeg:https://www.unne.edu.ar/wp-content/uploads/Concu
 rsoJovenoesBioestadisticos.jpeg
LOCATION:https://reunion2025.gab.com.ar/concursojovenes/
END:VEVENT
BEGIN:VTIMEZONE
TZID:America/Argentina/Buenos_Aires
X-LIC-LOCATION:America/Argentina/Buenos_Aires
BEGIN:STANDARD
DTSTART:20241001T000000
TZOFFSETFROM:-0300
TZOFFSETTO:-0300
TZNAME:-03
END:STANDARD
END:VTIMEZONE
END:VCALENDAR