BEGIN:VCALENDAR
VERSION:2.0
PRODID:-//wp-events-plugin.com//7.2.3.1//EN
TZID:America/Argentina/Buenos_Aires
X-WR-TIMEZONE:America/Argentina/Buenos_Aires
BEGIN:VEVENT
UID:986@unne.edu.ar
DTSTART;TZID=America/Argentina/Buenos_Aires:20251107T090000
DTEND;TZID=America/Argentina/Buenos_Aires:20251107T133000
DTSTAMP:20251106T110408Z
URL:https://www.unne.edu.ar/agenda/eventos/conferencia-de-economia-circula
 r-y-accion-climatica/
SUMMARY:Conferencia de ECONOMIA CIRCULAR Y ACCIÓN CLIMÁTICA
DESCRIPTION:Camino hacia la #COP30 - Climate Talks 2025\n\nEl 7 de noviembr
 e se realizará una jornada de intercambio de experiencias con la región 
 de Corrientes sobre políticas internacionales y buenas prácticas en la g
 estión de los residuos orgánicos con invitados especiales de Alemania.\n
 \nLos invitamos a sumarse en esta oportunidad:\n\n🗓️ Viernes\, 7 de n
 oviembre - Climate Talks 2025: Intercambio de experiencias en políticas p
 úblicas y buenas prácticas de gestión de residuos orgánicos\nen el mar
 co de la Acción Climática.\n⏰ 9:00 a 12:30 hs - Acreditación a partir
  de las 8:30 hs\n📍 UNNE\, Facultad de Derecho\, Salta 459\, Ciudad de C
 orrientes\n\n👉 Link para descargar el programa: https://bit.ly/4nkHkJ0\
 n\n👉 Inscripción aquí: https://bit.ly/3IWSDcn\n\nEvento con inscripci
 ón previa. Cupos limitados.
ATTACH;FMTTYPE=image/jpeg:https://www.unne.edu.ar/wp-content/uploads/ECONO
 MIA-CIRCULAR-Y-ACCION-CLIMATICA.jpeg
CATEGORIES:Facultad de Derecho y Ciencias Sociales y Políticas
LOCATION:Edificio Histórico - Facultad de Derecho y Ciencias Sociales y Po
 líticas\, Salta 459\, Corrientes\, Corrientes\, 3400\, Argentina
X-APPLE-STRUCTURED-LOCATION;VALUE=URI;X-ADDRESS=Salta 459\, Corrientes\, Co
 rrientes\, 3400\, Argentina;X-APPLE-RADIUS=100;X-TITLE=Edificio Histórico
  - Facultad de Derecho y Ciencias Sociales y Políticas:geo:0,0
END:VEVENT
BEGIN:VTIMEZONE
TZID:America/Argentina/Buenos_Aires
X-LIC-LOCATION:America/Argentina/Buenos_Aires
BEGIN:STANDARD
DTSTART:20241107T090000
TZOFFSETFROM:-0300
TZOFFSETTO:-0300
TZNAME:-03
END:STANDARD
END:VTIMEZONE
END:VCALENDAR