BEGIN:VCALENDAR
VERSION:2.0
PRODID:-//wp-events-plugin.com//7.2.3.1//EN
TZID:America/Argentina/Buenos_Aires
X-WR-TIMEZONE:America/Argentina/Buenos_Aires
BEGIN:VEVENT
UID:829@unne.edu.ar
DTSTART;TZID=America/Argentina/Buenos_Aires:20250618T090000
DTEND;TZID=America/Argentina/Buenos_Aires:20250618T090000
DTSTAMP:20250609T115905Z
URL:https://www.unne.edu.ar/agenda/eventos/conferencia-una-experiencia-agr
 oecologica-familiar/
SUMMARY:Conferencia "Una experiencia agroecológica familiar"
DESCRIPTION:Nos complace invitar a la comunidad a participar de este nuevo 
 Ciclo de Conferencias 2025 organizado por el Instituto Agrotécnico «Ped
 ro M. Fuentes Godo» de la UNNE.\n\nLa tercera charla del ciclo se titula
  «Una Experiencia Agroecológica Familiar»\, la misma estará a cargo d
 e la ingeniera agrónoma Lady Bartra.\n\nEl evento se realizará el día
  18 de junio a las 9:00 am en el Salón Elizondo de la Secretaría Gen
 eral de Extensión Universitaria\, Campus Resistencia (Av. Las Heras 727\
 , Resistencia\, Chaco).\n\nLa actividad es gratuita y se entregarán certi
 ficados de asistencia.\n\nFormulario de inscripción aquí »\n\nLos espe
 ramos.
ATTACH;FMTTYPE=image/jpeg:https://www.unne.edu.ar/wp-content/uploads/unaex
 perienciaagroecologicafamiliar.jpg
CATEGORIES:Instituto Agrotécnico "Pedro M. Fuentes Godo"
LOCATION:Campus Resistencia\, Av. Las Heras 727\, Resistencia\, Chaco\, 350
 0\, Argentina
X-APPLE-STRUCTURED-LOCATION;VALUE=URI;X-ADDRESS=Av. Las Heras 727\, Resiste
 ncia\, Chaco\, 3500\, Argentina;X-APPLE-RADIUS=100;X-TITLE=Campus Resisten
 cia:geo:0,0
END:VEVENT
BEGIN:VTIMEZONE
TZID:America/Argentina/Buenos_Aires
X-LIC-LOCATION:America/Argentina/Buenos_Aires
BEGIN:STANDARD
DTSTART:20240618T090000
TZOFFSETFROM:-0300
TZOFFSETTO:-0300
TZNAME:-03
END:STANDARD
END:VTIMEZONE
END:VCALENDAR