BEGIN:VCALENDAR
VERSION:2.0
PRODID:-//wp-events-plugin.com//7.2.3.1//EN
TZID:America/Argentina/Buenos_Aires
X-WR-TIMEZONE:America/Argentina/Buenos_Aires
BEGIN:VEVENT
UID:933@unne.edu.ar
DTSTART;TZID=America/Argentina/Buenos_Aires:20251003T150000
DTEND;TZID=America/Argentina/Buenos_Aires:20251003T150000
DTSTAMP:20250930T110747Z
URL:https://www.unne.edu.ar/agenda/eventos/congreso-nacional-de-ciencias-e
 conomicas/
SUMMARY:Congreso Nacional de Ciencias Económicas
DESCRIPTION:
ATTACH;FMTTYPE=image/jpeg:https://www.unne.edu.ar/wp-content/uploads/CNCE-
 2025.jpeg
CATEGORIES:Gestión UNNE
LOCATION:https://www.instagram.com/p/DPCQ6YBj83D/?utm_source=ig_web_copy_li
 nk&igsh=MzRlODBiNWFlZA==
END:VEVENT
BEGIN:VTIMEZONE
TZID:America/Argentina/Buenos_Aires
X-LIC-LOCATION:America/Argentina/Buenos_Aires
BEGIN:STANDARD
DTSTART:20241003T150000
TZOFFSETFROM:-0300
TZOFFSETTO:-0300
TZNAME:-03
END:STANDARD
END:VTIMEZONE
END:VCALENDAR