BEGIN:VCALENDAR
VERSION:2.0
PRODID:-//wp-events-plugin.com//7.2.3.1//EN
TZID:America/Argentina/Buenos_Aires
X-WR-TIMEZONE:America/Argentina/Buenos_Aires
BEGIN:VEVENT
UID:880@unne.edu.ar
DTSTART;TZID=America/Argentina/Buenos_Aires:20250626T093000
DTEND;TZID=America/Argentina/Buenos_Aires:20250626T093000
DTSTAMP:20250630T133902Z
URL:https://www.unne.edu.ar/agenda/eventos/conociendo-unne-2025-artes-dise
 no-y-cs-de-la-cultura/
SUMMARY:Conociendo UNNE 2025 - Artes\, Diseño y Cs. de la Cultura
DESCRIPTION:
ATTACH;FMTTYPE=image/jpeg:https://www.unne.edu.ar/wp-content/uploads/ig-cr
 onograma-05.jpg
CATEGORIES:Sec. Gral. de Extensión Universitaria
LOCATION:Campus de la Reforma\, Av. Castelli 1300\, Resistencia\, Chaco\, A
 rgentina
X-APPLE-STRUCTURED-LOCATION;VALUE=URI;X-ADDRESS=Av. Castelli 1300\, Resiste
 ncia\, Chaco\, Argentina;X-APPLE-RADIUS=100;X-TITLE=Campus de la Reforma:g
 eo:0,0
END:VEVENT
BEGIN:VTIMEZONE
TZID:America/Argentina/Buenos_Aires
X-LIC-LOCATION:America/Argentina/Buenos_Aires
BEGIN:STANDARD
DTSTART:20240626T093000
TZOFFSETFROM:-0300
TZOFFSETTO:-0300
TZNAME:-03
END:STANDARD
END:VTIMEZONE
END:VCALENDAR