BEGIN:VCALENDAR
VERSION:2.0
PRODID:-//wp-events-plugin.com//7.2.3.1//EN
TZID:America/Argentina/Buenos_Aires
X-WR-TIMEZONE:America/Argentina/Buenos_Aires
BEGIN:VEVENT
UID:400@unne.edu.ar
DTSTART;TZID=America/Argentina/Buenos_Aires;VALUE=DATE:20240826
DTEND;TZID=America/Argentina/Buenos_Aires;VALUE=DATE:20240827
DTSTAMP:20240823T132215Z
URL:https://www.unne.edu.ar/agenda/eventos/convocatoria-a-talleres-del-ccn
 -2do-cuatrimestre/
SUMMARY:Convocatoria a Talleres del CCN – 2do Cuatrimestre
DESCRIPTION:Los cursos de capacitación a cargo del Centro Cultural Nordest
 e para el ciclo lectivo 2024\, todas las propuestas son reconocidas por la
  Unne.\n\nTienen un duración de dos meses y con una carga horaria de 16 h
 oras en todas\, cursado de manera presencial.\n\nEl objetivo principal es 
 “Promover el acceso a la cultura desde propuestas artísticas y cultural
 es orientadas a la formación\, capacitación profesional y experimentaci
 ón artística”\, para ello se proponen realizar una serie de cursos ori
 entados a la comunidad en general de formación cultural y laboral.\n\n&nb
 sp\;\n\nLugar: CCN – Arturo Illia 355\n\nInscripciones de Lunes a Vierne
 s de 08:00 a 12:00 y de 14:00 a 21:00\n\nInteresados y publico en Gral.\n\
 nContacto: 362 4422583
CATEGORIES:Sec. Gral. de Extensión Universitaria
LOCATION:Centro Cultural Nordeste\, Arturo Illia 355\, Resistencia\, Chaco\
 , 3500\, Argentina
X-APPLE-STRUCTURED-LOCATION;VALUE=URI;X-ADDRESS=Arturo Illia 355\, Resisten
 cia\, Chaco\, 3500\, Argentina;X-APPLE-RADIUS=100;X-TITLE=Centro Cultural 
 Nordeste:geo:0,0
END:VEVENT
BEGIN:VTIMEZONE
TZID:America/Argentina/Buenos_Aires
X-LIC-LOCATION:America/Argentina/Buenos_Aires
BEGIN:STANDARD
DTSTART:20230827T000000
TZOFFSETFROM:-0300
TZOFFSETTO:-0300
TZNAME:-03
END:STANDARD
END:VTIMEZONE
END:VCALENDAR