BEGIN:VCALENDAR
VERSION:2.0
PRODID:-//wp-events-plugin.com//7.2.3.1//EN
TZID:America/Argentina/Buenos_Aires
X-WR-TIMEZONE:America/Argentina/Buenos_Aires
BEGIN:VEVENT
UID:972@unne.edu.ar
DTSTART;TZID=America/Argentina/Buenos_Aires:20251016T180000
DTEND;TZID=America/Argentina/Buenos_Aires:20251016T180000
DTSTAMP:20251016T114457Z
URL:https://www.unne.edu.ar/agenda/eventos/curso-entendemos-chamame-patrim
 onio-cultural-inmaterial-de-la-humanidad-actualizacion-periodistica-digita
 l/
SUMMARY:Curso: ¿Entendemos Chamamé?  Patrimonio Cultural Inmaterial de la
  Humanidad - Actualización Periodística Digital
DESCRIPTION:Un curso digital para comunicar y valorar nuestra identidad cul
 tural.\n\nEl Chamamé\, reconocido por la UNESCO como Patrimonio Cultura
 l Inmaterial de la Humanidad\, es mucho más que música: es historia\, em
 oción y comunidad.\nEste curso te invita a actualizarte profesionalmente 
 y a formar parte activa de su difusión y preservación\, desde la mirada 
 del periodismo y la comunicación cultural.\n\n ¿Qué vas a lograr?\n\n
  	Desarrollar una mirada crítica y actual sobre el Chamamé y su valor pa
 trimonial.\n 	Acceder a materiales exclusivos y perspectivas contemporáne
 as.\n 	Fortalecer tus herramientas como comunicador o periodista cultural.
 \n 	Participar en un espacio virtual de actualización autogestionada.\n\n
  Destinado a:\nEstudiantes y profesionales de periodismo y comunicación
  social\, comunicadores culturales\, periodistas\, y todas las personas 
 que sienten el llamado de difundir el Chamamé como legado vivo de nuestra
  identidad.\n\n Accedé al curso acá:\n Inscribite ahora\n\n Mirá tod
 os los cursos disponibles en UNNE Virtual\n\n Seguinos para conocer más
  novedades:\n\n 	Facebook\n 	Instagram\n\n
ATTACH;FMTTYPE=image/jpeg:https://www.unne.edu.ar/wp-content/uploads/Whats
 App-Image-2025-10-02-at-13.08.41.jpeg
CATEGORIES:Sec. Gral. Académica
LOCATION:https://bit.ly/Entendemos_chamame
END:VEVENT
BEGIN:VTIMEZONE
TZID:America/Argentina/Buenos_Aires
X-LIC-LOCATION:America/Argentina/Buenos_Aires
BEGIN:STANDARD
DTSTART:20241016T180000
TZOFFSETFROM:-0300
TZOFFSETTO:-0300
TZNAME:-03
END:STANDARD
END:VTIMEZONE
END:VCALENDAR