BEGIN:VCALENDAR
VERSION:2.0
PRODID:-//wp-events-plugin.com//7.2.3.1//EN
TZID:America/Argentina/Buenos_Aires
X-WR-TIMEZONE:America/Argentina/Buenos_Aires
BEGIN:VEVENT
UID:943@unne.edu.ar
DTSTART;TZID=America/Argentina/Buenos_Aires:20251015T150000
DTEND;TZID=America/Argentina/Buenos_Aires:20251015T170000
DTSTAMP:20251003T144351Z
URL:https://www.unne.edu.ar/agenda/eventos/cursos-bimensuales-del-ccn-2025
 -ceremonial-y-protocolo-organizacion-de-actos-y-eventos-institucionales/
SUMMARY:Cursos bimensuales del CCN 2025: Ceremonial y Protocolo: Organizaci
 ón de actos y eventos institucionales
DESCRIPTION:Miércoles de 15 a 17hs - Prof. Rolando Andolfi\n\nEste curso o
 frece herramientas clave para organizar\, coordinar o participar en actos 
 institucionales y eventos formales en ámbitos públicos o privados.\n\nEn
  un contexto donde el ceremonial cobra relevancia en todos los niveles org
 anizativos\, es una formación útil para profesionales\, funcionarios\, a
 sistentes o personas interesadas en el protocolo oficial y organizacional.
 \n\nModalidad: Presencial – Centro Cultural Nordeste (Arturo Illia 355. 
 Resistencia. Chaco)\n\nDuración: 8 clases de 2 hs\n\nInscripción: Todos/
 as se inscriben con DNI en Mano - Presencial en mesa de entrada del CCN\n\
 nArancelado público en General: 1 pago de $ 40.000\n\nGratuito: Estudiant
 es de la UNNE (presentando constancia de alumno regular y fotocopia de DNI
 )\n\n&nbsp\;
ATTACH;FMTTYPE=image/jpeg:https://www.unne.edu.ar/wp-content/uploads/Curso
 -Protocolo.jpeg
CATEGORIES:Sec. Gral. de Extensión Universitaria
LOCATION:Centro Cultural Nordeste\, Arturo Illia 355\, Resistencia\, Chaco\
 , 3500\, Argentina
X-APPLE-STRUCTURED-LOCATION;VALUE=URI;X-ADDRESS=Arturo Illia 355\, Resisten
 cia\, Chaco\, 3500\, Argentina;X-APPLE-RADIUS=100;X-TITLE=Centro Cultural 
 Nordeste:geo:0,0
END:VEVENT
BEGIN:VTIMEZONE
TZID:America/Argentina/Buenos_Aires
X-LIC-LOCATION:America/Argentina/Buenos_Aires
BEGIN:STANDARD
DTSTART:20241015T150000
TZOFFSETFROM:-0300
TZOFFSETTO:-0300
TZNAME:-03
END:STANDARD
END:VTIMEZONE
END:VCALENDAR