BEGIN:VCALENDAR
VERSION:2.0
PRODID:-//wp-events-plugin.com//7.2.3.1//EN
TZID:America/Argentina/Buenos_Aires
X-WR-TIMEZONE:America/Argentina/Buenos_Aires
BEGIN:VEVENT
UID:944@unne.edu.ar
DTSTART;TZID=America/Argentina/Buenos_Aires:20251018T100000
DTEND;TZID=America/Argentina/Buenos_Aires:20251018T120000
DTSTAMP:20251003T144511Z
URL:https://www.unne.edu.ar/agenda/eventos/cursos-bimensuales-del-ccn-2025
 -fotografia-revelado-y-retoque-digital-procesos-tecnicos-y-creativos-para-
 optimizar-imagenes-fotograficas/
SUMMARY:Cursos bimensuales del CCN 2025: Fotografía: Revelado y Retoque Di
 gital. Procesos técnicos y creativos para optimizar imágenes fotográfic
 as
DESCRIPTION:Sábados de 10 a 12 hs - Prof. Luis Schäffer\n\nUn espacio pen
 sado para quienes desean mejorar la edición digital de sus fotografías\,
  ya sea desde cero o reforzando una base técnica previa. Se trabajará so
 bre herramientas de retoque y flujos de trabajo creativo para lograr imág
 enes expresivas y funcionales.\n\nEste curso es ideal para principiantes o
  aficionados que buscan dar el siguiente paso sean o no fotógrafos.\n\nMo
 dalidad: Presencial – Centro Cultural Nordeste (Arturo Illia 355. Resist
 encia. Chaco)\n\nDuración: 8 clases de 2 hs\n\nInscripción: Todos/as se 
 inscriben con DNI en Mano - Presencial en mesa de entrada del CCN\n\nAranc
 elado público en General: 1 pago de $ 40.000\n\nGratuito: Estudiantes de 
 la UNNE (presentando constancia de alumno regular y fotocopia de DNI)\n\n&
 nbsp\;
ATTACH;FMTTYPE=image/jpeg:https://www.unne.edu.ar/wp-content/uploads/Curso
 -Footografia.jpeg
CATEGORIES:Sec. Gral. de Extensión Universitaria
LOCATION:Centro Cultural Nordeste\, Arturo Illia 355\, Resistencia\, Chaco\
 , 3500\, Argentina
X-APPLE-STRUCTURED-LOCATION;VALUE=URI;X-ADDRESS=Arturo Illia 355\, Resisten
 cia\, Chaco\, 3500\, Argentina;X-APPLE-RADIUS=100;X-TITLE=Centro Cultural 
 Nordeste:geo:0,0
END:VEVENT
BEGIN:VTIMEZONE
TZID:America/Argentina/Buenos_Aires
X-LIC-LOCATION:America/Argentina/Buenos_Aires
BEGIN:STANDARD
DTSTART:20241018T100000
TZOFFSETFROM:-0300
TZOFFSETTO:-0300
TZNAME:-03
END:STANDARD
END:VTIMEZONE
END:VCALENDAR