BEGIN:VCALENDAR
VERSION:2.0
PRODID:-//wp-events-plugin.com//7.2.3.1//EN
TZID:America/Argentina/Buenos_Aires
X-WR-TIMEZONE:America/Argentina/Buenos_Aires
BEGIN:VEVENT
UID:901@unne.edu.ar
DTSTART;TZID=America/Argentina/Buenos_Aires;VALUE=DATE:20250901
DTEND;TZID=America/Argentina/Buenos_Aires;VALUE=DATE:20250902
DTSTAMP:20250821T114529Z
URL:https://www.unne.edu.ar/agenda/eventos/depresion-herramientas-y-estrat
 egias-de-afrontamiento/
SUMMARY:Depresión: Herramientas y Estrategias de afrontamiento
DESCRIPTION:Estimar la cantidad de personas que conviven con Depresión act
 ualmente arroja datos llamativos\, ya que\, según la Organización Mundia
 l de la Salud (OMS) más de 300 millones de personas en el mundo la padece
 n. La incidencia de este trastorno aumentó más del 18% entre el 2005 y 2
 015\, y luego de la pandemia por COVID-19\, ha sido un tema de creciente p
 reocupación.\n\n👉Este curso busca\nProporcionar información para el e
 ntendimiento de la depresión y de cómo afecta a la salud mental y emocio
 nal de las personas.\n\n👫Destinado a:\nAutoridades de instituciones edu
 cativas públicas y privadas- docentes –no docentes-personal de gestión
 - personas interesadas en la temática- Público general.\n\n🌎Para más
  información y acceso al curso:\nhttps://www.cavila.org/web/escuelacavila
 /curso/2025/depresion-herramientas-y-estrategias-de-afrontamiento-2025
ATTACH;FMTTYPE=image/jpeg:https://www.unne.edu.ar/wp-content/uploads/AulaC
 avilaDepresion.jpeg
CATEGORIES:Sec. Gral. Académica
LOCATION:https://www.cavila.org/web/escuelacavila/curso/2025/depresion-herr
 amientas-y-estrategias-de-afrontamiento-2025
END:VEVENT
BEGIN:VTIMEZONE
TZID:America/Argentina/Buenos_Aires
X-LIC-LOCATION:America/Argentina/Buenos_Aires
BEGIN:STANDARD
DTSTART:20240901T000000
TZOFFSETFROM:-0300
TZOFFSETTO:-0300
TZNAME:-03
END:STANDARD
END:VTIMEZONE
END:VCALENDAR