BEGIN:VCALENDAR
VERSION:2.0
PRODID:-//wp-events-plugin.com//7.2.3.1//EN
TZID:America/Argentina/Buenos_Aires
X-WR-TIMEZONE:America/Argentina/Buenos_Aires
BEGIN:VEVENT
UID:261@unne.edu.ar
DTSTART;TZID=America/Argentina/Buenos_Aires;VALUE=DATE:20250525
DTEND;TZID=America/Argentina/Buenos_Aires;VALUE=DATE:20250526
DTSTAMP:20240508T123704Z
URL:https://www.unne.edu.ar/agenda/eventos/dia-de-la-revolucion-de-mayo-20
 25-05-25/
SUMMARY:Día de la Revolución de Mayo
DESCRIPTION:
CATEGORIES:Recesos, Feriados y Días no Laborables
END:VEVENT
BEGIN:VTIMEZONE
TZID:America/Argentina/Buenos_Aires
X-LIC-LOCATION:America/Argentina/Buenos_Aires
BEGIN:STANDARD
DTSTART:20240525T000000
TZOFFSETFROM:-0300
TZOFFSETTO:-0300
TZNAME:-03
END:STANDARD
END:VTIMEZONE
END:VCALENDAR