BEGIN:VCALENDAR
VERSION:2.0
PRODID:-//wp-events-plugin.com//7.2.3.1//EN
TZID:America/Argentina/Buenos_Aires
X-WR-TIMEZONE:America/Argentina/Buenos_Aires
BEGIN:VEVENT
UID:613@unne.edu.ar
DTSTART;TZID=America/Argentina/Buenos_Aires;VALUE=DATE:20290917
DTEND;TZID=America/Argentina/Buenos_Aires;VALUE=DATE:20290918
DTSTAMP:20250207T124826Z
URL:https://www.unne.edu.ar/agenda/eventos/dia-del-docente-universitario-2
 029-09-17/
SUMMARY:Dia del Docente Universitario
DESCRIPTION:
CATEGORIES:Recesos, Feriados y Días no Laborables
END:VEVENT
BEGIN:VTIMEZONE
TZID:America/Argentina/Buenos_Aires
X-LIC-LOCATION:America/Argentina/Buenos_Aires
BEGIN:STANDARD
DTSTART:20280917T000000
TZOFFSETFROM:-0300
TZOFFSETTO:-0300
TZNAME:-03
END:STANDARD
END:VTIMEZONE
END:VCALENDAR