BEGIN:VCALENDAR
VERSION:2.0
PRODID:-//wp-events-plugin.com//7.2.3.1//EN
TZID:America/Argentina/Buenos_Aires
X-WR-TIMEZONE:America/Argentina/Buenos_Aires
BEGIN:VEVENT
UID:351@unne.edu.ar
DTSTART;TZID=America/Argentina/Buenos_Aires;VALUE=DATE:20250324
DTEND;TZID=America/Argentina/Buenos_Aires;VALUE=DATE:20250325
DTSTAMP:20240508T131345Z
URL:https://www.unne.edu.ar/agenda/eventos/dia-nacional-de-la-memoria-por-
 la-verdad-y-la-justicia-2025-03-24/
SUMMARY:Día Nacional de la Memoria por la Verdad y la Justicia
DESCRIPTION:
CATEGORIES:Recesos, Feriados y Días no Laborables
END:VEVENT
BEGIN:VTIMEZONE
TZID:America/Argentina/Buenos_Aires
X-LIC-LOCATION:America/Argentina/Buenos_Aires
BEGIN:STANDARD
DTSTART:20240324T000000
TZOFFSETFROM:-0300
TZOFFSETTO:-0300
TZNAME:-03
END:STANDARD
END:VTIMEZONE
END:VCALENDAR