BEGIN:VCALENDAR
VERSION:2.0
PRODID:-//wp-events-plugin.com//7.2.3.1//EN
TZID:America/Argentina/Buenos_Aires
X-WR-TIMEZONE:America/Argentina/Buenos_Aires
BEGIN:VEVENT
UID:1049@unne.edu.ar
DTSTART;TZID=America/Argentina/Buenos_Aires:20251127T150000
DTEND;TZID=America/Argentina/Buenos_Aires:20251127T150000
DTSTAMP:20251118T122654Z
URL:https://www.unne.edu.ar/agenda/eventos/distribucion-sexual-del-trabajo
 -y-su-impacto-en-lo-laboral/
SUMMARY:Distribución Sexual del trabajo y su impacto en lo laboral
DESCRIPTION:A cargo de Valentina Mariani\n\nFecha: Jueves 27 de noviembre\n
 Horario: 15hs\nLugar: Facultad de Artes\, Diseño y Ciencias de la Cultura
LOCATION:Campus de la Reforma\, Av. Castelli 1300\, Resistencia\, Chaco\, A
 rgentina
X-APPLE-STRUCTURED-LOCATION;VALUE=URI;X-ADDRESS=Av. Castelli 1300\, Resiste
 ncia\, Chaco\, Argentina;X-APPLE-RADIUS=100;X-TITLE=Campus de la Reforma:g
 eo:0,0
END:VEVENT
BEGIN:VTIMEZONE
TZID:America/Argentina/Buenos_Aires
X-LIC-LOCATION:America/Argentina/Buenos_Aires
BEGIN:STANDARD
DTSTART:20241127T150000
TZOFFSETFROM:-0300
TZOFFSETTO:-0300
TZNAME:-03
END:STANDARD
END:VTIMEZONE
END:VCALENDAR