BEGIN:VCALENDAR
VERSION:2.0
PRODID:-//wp-events-plugin.com//7.2.3.1//EN
TZID:America/Argentina/Buenos_Aires
X-WR-TIMEZONE:America/Argentina/Buenos_Aires
BEGIN:VEVENT
UID:830@unne.edu.ar
DTSTART;TZID=America/Argentina/Buenos_Aires:20250602T110000
DTEND;TZID=America/Argentina/Buenos_Aires:20250602T110000
DTSTAMP:20250609T120755Z
URL:https://www.unne.edu.ar/agenda/eventos/el-neceps-cumple-10-anos-y-lo-c
 elebra-con-un-ciclo-de-conferencias-sobre-estado-politica-y-sociedad-en-el
 -nea/
SUMMARY:El NECEPS cumple 10 años y lo celebra con un ciclo de conferencias
  sobre Estado\, política y sociedad en el NEA
DESCRIPTION:📚 Una década investigando el NEA: historia\, Estado\, polí
 tica y sociedad desde una perspectiva regional\n\nEl Núcleo de Estudios s
 obre Cultura\, Estado\, Política y Sociedad (NECEPS)\, con sede en el Ins
 tituto de Investigaciones Geohistóricas (IIGHI – CONICET / UNNE)\, cele
 bra su 10° aniversario con el ciclo de conferencias virtuales abiertas al
  público:\n“Historias cercanas. Conversaciones sobre Estado\, política
  y sociedad en el NEA”.\n\n🗓️ El ciclo se desarrollará a lo largo 
 de 2025 con participación de investigadoras e investigadores que trabajan
  sobre el nordeste argentino desde diversas perspectivas. Las conferencias
  buscan difundir líneas de investigación y abrir espacios de reflexión 
 colectiva sobre procesos históricos\, actores sociales\, políticas públ
 icas y representaciones culturales en la región.\n\n📆 Programación co
 nfirmada:\n\n🔹 Lunes 2 de junio – 11:00 Hs.\n📌 A 70 años de la Re
 volución Libertadora\nCon María del Mar Solís Carnicer\, Mayra Maggio y
  María Silvia Leoni.\n\n🔹 Viernes 6 de junio – 18:00 Hs.\n📌 Prens
 a y televisión en clave regional\nCon Andrea de los Reyes\, Milagros Matt
 os\, Fátima Prunello y Darío Román.\n\n🔹 Viernes 11 de julio – 18:
 00 Hs.\n📌 Política indigenista y agencia indígena en el Chaco del sig
 lo XX\nCon Soledad Almirón\, María José Ramírez y Belén Vallejos.\n\n
 🔹 Martes 19 de agosto – 18:00 h\n📌 Políticas públicas en el NEA 
 (1955–1976)\nCon Martina Vázquez\, Antonia Portalis y Renzo Balbiano.\n
 \n🔜 En el segundo semestre continuará el ciclo con nuevas conferencias
  sobre:\n• Una segunda parte sobre la Revolución Libertadora\n• Los 1
 40 años de la constitución del Territorio Nacional del Chaco\n• Un abo
 rdaje histórico de la última dictadura en el NEA\n\n📍Organiza: NECEPS
  – Instituto de Investigaciones Geohistóricas (IIGHI – CONICET / UNNE
 )\n\n📲 Actividad virtual\, abierta y gratuita\n\nLink para acceder a lo
 s enlaces de los dos primeros encuentros: https://shorturl.at/LfhL5 \n\n#N
 ECEPS10Años #HistoriaDelNEA #CienciaDesdeElTerritorio #InvestigaciónU
 NNE #IIGHI #UNNE #CONICET #HistoriaRegional
ATTACH;FMTTYPE=image/jpeg:https://www.unne.edu.ar/wp-content/uploads/Ciclo
 -de-conferencias-virtuales-10-anos-NECEPS.jpeg
LOCATION:https://shorturl.at/LfhL5
END:VEVENT
BEGIN:VTIMEZONE
TZID:America/Argentina/Buenos_Aires
X-LIC-LOCATION:America/Argentina/Buenos_Aires
BEGIN:STANDARD
DTSTART:20240602T110000
TZOFFSETFROM:-0300
TZOFFSETTO:-0300
TZNAME:-03
END:STANDARD
END:VTIMEZONE
END:VCALENDAR