BEGIN:VCALENDAR
VERSION:2.0
PRODID:-//wp-events-plugin.com//7.2.3.1//EN
TZID:America/Argentina/Buenos_Aires
X-WR-TIMEZONE:America/Argentina/Buenos_Aires
BEGIN:VEVENT
UID:1045@unne.edu.ar
DTSTART;TZID=America/Argentina/Buenos_Aires:20251114T180000
DTEND;TZID=America/Argentina/Buenos_Aires:20251114T200000
DTSTAMP:20251111T162941Z
URL:https://www.unne.edu.ar/agenda/eventos/encuentro-de-salud-mental-y-esc
 ritura/
SUMMARY:Encuentro de Salud Mental y Escritura
DESCRIPTION:Organizado por el #CCU y el 𝑺𝒆𝒓𝒗𝒊𝒄𝒊𝒐 
 𝒅𝒆 𝑪𝒐𝒓𝒕𝒂 𝑬𝒔𝒕𝒂𝒅í𝒂 𝒅𝒆𝒍 𝑯
 𝒐𝒔𝒑𝒊𝒕𝒂𝒍 𝒅𝒆 𝑺𝒂𝒍𝒖𝒅 𝑴𝒆𝒏
 𝒕𝒂𝒍 "𝑺𝒂𝒏 𝑭𝒓𝒂𝒏𝒄𝒊𝒔𝒄𝒐 𝒅𝒆 
 𝑨𝒔í𝒔"\n\nLa propuesta son tres encuentros mensuales\, donde se a
 bordarán las adicciones apelando a los aportes de otras disciplinas\, en 
 este caso específico\, el de la literatura clásica .Tienen como objetivo
  reflexionar\, profundizar y complejizar esta realidad y sus conflictos.\n
 .\nTercer encuentro: 𝑬𝒍 𝒓𝒆𝒍𝒂𝒕𝒐\n📆 Viernes 14 de
  noviembre\n⏰ 18 a 20hs\n📍 Salón azul del #CCU\n.\n𝐆𝐫𝐚𝐭
 𝐮𝐢𝐭𝐨\nDestinado a personas que relaizan tareas vinculadas a la
  #SaludMental y las adicciones.\n🔹Se entregan constancias de participac
 ión.\n\nNota completa https://www.unne.edu.ar/extension/novedad.php?uid=0
 b00d34a402f4c0aa23d559b67f2522a
ATTACH;FMTTYPE=image/jpeg:https://www.unne.edu.ar/wp-content/uploads/Salud
 MentalYEscritura.jpeg
CATEGORIES:Sec. Gral. de Extensión Universitaria
LOCATION:Centro Cultural Universitario\, Córdoba 798\, Capital\, Corriente
 s\, 3400\, Argentina
X-APPLE-STRUCTURED-LOCATION;VALUE=URI;X-ADDRESS=Córdoba 798\, Capital\, Co
 rrientes\, 3400\, Argentina;X-APPLE-RADIUS=100;X-TITLE=Centro Cultural Uni
 versitario:geo:0,0
END:VEVENT
BEGIN:VTIMEZONE
TZID:America/Argentina/Buenos_Aires
X-LIC-LOCATION:America/Argentina/Buenos_Aires
BEGIN:STANDARD
DTSTART:20241114T180000
TZOFFSETFROM:-0300
TZOFFSETTO:-0300
TZNAME:-03
END:STANDARD
END:VTIMEZONE
END:VCALENDAR