BEGIN:VCALENDAR
VERSION:2.0
PRODID:-//wp-events-plugin.com//7.2.3.1//EN
TZID:America/Argentina/Buenos_Aires
X-WR-TIMEZONE:America/Argentina/Buenos_Aires
BEGIN:VEVENT
UID:914@unne.edu.ar
DTSTART;TZID=America/Argentina/Buenos_Aires:20250912T180000
DTEND;TZID=America/Argentina/Buenos_Aires:20250912T200000
DTSTAMP:20250902T154806Z
URL:https://www.unne.edu.ar/agenda/eventos/encuentros-de-salud-mental-y-li
 teratura/
SUMMARY:Encuentros de salud mental y literatura - Primer encuentro "𝑳
 𝒐 𝒔𝒊𝒏𝒊𝒆𝒔𝒕𝒓𝒐"
DESCRIPTION:Organizado por el #CCU y el 𝑺𝒆𝒓𝒗𝒊𝒄𝒊𝒐 
 𝒅𝒆 𝑪𝒐𝒓𝒕𝒂 𝑬𝒔𝒕𝒂𝒅í𝒂 𝒅𝒆𝒍 𝑯
 𝒐𝒔𝒑𝒊𝒕𝒂𝒍 𝒅𝒆 𝑺𝒂𝒍𝒖𝒅 𝑴𝒆𝒏
 𝒕𝒂𝒍 "𝑺𝒂𝒏 𝑭𝒓𝒂𝒏𝒄𝒊𝒔𝒄𝒐 𝒅𝒆 
 𝑨𝒔𝒊𝒔"\n\nLa propuesta son tres encuentros\, uno por mes donde 
 se abordarán las adicciones apelando a los aportes de otras disciplinas\,
  en este caso específico\, el de la literatura clásica.\n\nTienen como o
 bjetivo reflexionar\, profundizar y complejizar esta realidad y sus confli
 ctos.\n\nPrimer encuentro "𝑳𝒐 𝒔𝒊𝒏𝒊𝒆𝒔𝒕𝒓𝒐"\
 n\n📆12 de septiembre\n⏰18 a 20hs\n📍Salón azul del #CCU\n\n𝐆
 𝐫𝐚𝐭𝐮𝐢𝐭𝐨\nDestinado a personas que realizan tareas vin
 culadas a la Salud Mental y las adicciones.\nSe entregan constancias de pa
 rticipación
ATTACH;FMTTYPE=image/jpeg:https://www.unne.edu.ar/wp-content/uploads/Encue
 ntrosDe-SaludMentalYLiteratura.png
CATEGORIES:Sec. Gral. de Extensión Universitaria
LOCATION:https://www.unne.edu.ar/extension/novedad.php?uid=a8f9e7ba9797db78
 0c6e8dedf9eb46ca
END:VEVENT
BEGIN:VTIMEZONE
TZID:America/Argentina/Buenos_Aires
X-LIC-LOCATION:America/Argentina/Buenos_Aires
BEGIN:STANDARD
DTSTART:20240912T180000
TZOFFSETFROM:-0300
TZOFFSETTO:-0300
TZNAME:-03
END:STANDARD
END:VTIMEZONE
END:VCALENDAR