BEGIN:VCALENDAR
VERSION:2.0
PRODID:-//wp-events-plugin.com//7.2.3.1//EN
TZID:America/Argentina/Buenos_Aires
X-WR-TIMEZONE:America/Argentina/Buenos_Aires
BEGIN:VEVENT
UID:423@unne.edu.ar
DTSTART;TZID=America/Argentina/Buenos_Aires:20240913T200000
DTEND;TZID=America/Argentina/Buenos_Aires:20240913T200000
DTSTAMP:20240906T153252Z
URL:https://www.unne.edu.ar/agenda/eventos/entrega-premio-unne-adquisicion
 /
SUMMARY:Entrega Premio UNNE Adquisición
DESCRIPTION:Dónde: Sala del Sol- Centro Cultural Universitario – Córdo
 ba esquina 9 de julio\nCuando: Viernes 13 de septiembre 20hs\nDestinatari
 os: Estudiantes universitarios preferentemente estudiantes de la Fac de H
 umanidades\, Comunicación Social\, Fadycc\, Diseño Gráfico\, no docente
 s.\nRequisitos: entrada libre y gratuita.\nContacto: @ccu.unne \, https
 ://www.unne.edu.ar/extension/ccu
CATEGORIES:Sec. Gral. de Extensión Universitaria
LOCATION:Centro Cultural Universitario\, Córdoba 798\, Capital\, Corriente
 s\, 3400\, Argentina
X-APPLE-STRUCTURED-LOCATION;VALUE=URI;X-ADDRESS=Córdoba 798\, Capital\, Co
 rrientes\, 3400\, Argentina;X-APPLE-RADIUS=100;X-TITLE=Centro Cultural Uni
 versitario:geo:0,0
END:VEVENT
BEGIN:VTIMEZONE
TZID:America/Argentina/Buenos_Aires
X-LIC-LOCATION:America/Argentina/Buenos_Aires
BEGIN:STANDARD
DTSTART:20230914T200000
TZOFFSETFROM:-0300
TZOFFSETTO:-0300
TZNAME:-03
END:STANDARD
END:VTIMEZONE
END:VCALENDAR