BEGIN:VCALENDAR
VERSION:2.0
PRODID:-//wp-events-plugin.com//7.2.3.1//EN
TZID:America/Argentina/Buenos_Aires
X-WR-TIMEZONE:America/Argentina/Buenos_Aires
BEGIN:VEVENT
UID:897@unne.edu.ar
DTSTART;TZID=America/Argentina/Buenos_Aires:20250814T000000
DTEND;TZID=America/Argentina/Buenos_Aires:20250816T000000
DTSTAMP:20250811T121747Z
URL:https://www.unne.edu.ar/agenda/eventos/especial-radio-unne-en-la-rural
 /
SUMMARY:Especial Radio UNNE en la Rural
DESCRIPTION:
ATTACH;FMTTYPE=image/jpeg:https://www.unne.edu.ar/wp-content/uploads/Radio
 UnneEnLaRural.jpeg
CATEGORIES:Coordinación de Comunicación
LOCATION:https://www.youtube.com/@radiounne/streams
END:VEVENT
BEGIN:VTIMEZONE
TZID:America/Argentina/Buenos_Aires
X-LIC-LOCATION:America/Argentina/Buenos_Aires
BEGIN:STANDARD
DTSTART:20240814T000000
TZOFFSETFROM:-0300
TZOFFSETTO:-0300
TZNAME:-03
END:STANDARD
END:VTIMEZONE
END:VCALENDAR